BEGIN:VCALENDAR
PRODID:-//Microsoft Corporation//Outlook 12.0 MIMEDIR//EN
VERSION:2.0
METHOD:PUBLISH
X-MS-OLK-FORCEINSPECTOROPEN:TRUE
BEGIN:VEVENT
CLASS:PUBLIC
CREATED:20260419T161128Z
DESCRIPTION:CamundaCon brings together the global Camunda community to discuss best practices and use cases. Get product updates and inspiration from the team behind Camunda.\n \nAgenda día 1:\n \n06:00 AM ET\nReinventing Process Automation for the Digital Enterprise\nJakob Freund, CEO and Co-Founder, Camunda\n \n06:45 AM ET\nBots and process improvements at the same time – is that possible?\nMarco Einacker, VP IT Services, Deutsche Telekom\n \n07:45 AM ET\nThe Art and Science of Continuous Process Improvements. Key ingredients of the Camunda workflow engine for developers\n \n08:15 AM ET\nIntegration Patterns With Camunda\nSowmya Raghunathan, Indiana Farm Bureau\nHow advances in the JVM can speed up Camunda\nTim Zoeller\n \n08:45 AM ET\nEnterprise Process Automation Case Study\nTBA\nRules Engine, Tenants and dynamical deployments!\nAravindh Ravi\n \n09:30 AM ET\nGuest Keynote: The Future of Process Automation\n \n10:30 AM ET\nArchitectural Models for Working with Microservices\nCamunda Hackdays: Wild and Wonderful Creations from the Camunda Devs\n \n11:00 AM ET\nLessons Learned from Putting Camunda through the Paces in Production\nMr. Stamm’s Marvelous Mystery Presentation\nSebastian Stamm, Camunda\n
DTSTART:20201008T130000
DTEND:20201008T184500
DTSTAMP:20260419T161128Z
LOCATION:Online
PRIORITY:5
SEQUENCE:0
SUMMARY;LANGUAGE=es-es:Tecnowebinars.com - :: Discover the Future of Process Automation. Día 1
TRANSP:OPAQUE
UID:6c3372460dc1791d14276ba6e05c6eb3 Tecnowebinars.com
X-MICROSOFT-CDO-BUSYSTATUS:BUSY
X-MICROSOFT-CDO-IMPORTANCE:1
X-MICROSOFT-DISALLOW-COUNTER:FALSE
X-MS-OLK-ALLOWEXTERNCHECK:TRUE
X-MS-OLK-AUTOFILLLOCATION:FALSE
X-MS-OLK-CONFTYPE:0
BEGIN:VALARM
TRIGGER:-PT1440M
ACTION:DISPLAY
DESCRIPTION:Reminder
END:VALARM
END:VEVENT
END:VCALENDAR
