BEGIN:VCALENDAR
PRODID:-//Microsoft Corporation//Outlook 12.0 MIMEDIR//EN
VERSION:2.0
METHOD:PUBLISH
X-MS-OLK-FORCEINSPECTOROPEN:TRUE
BEGIN:VEVENT
CLASS:PUBLIC
CREATED:20260419T172123Z
DESCRIPTION:Supply chain uncertainty remains the one certainty of logistics. Yet no matter the disruption, transportation professionals must still find a way to keep products moving.\nAutomated functionality within a TMS enables more focused decision making, visibility, and proactive management. Yet, the wide-scale deployment of automation in supply chain processes remains elusive for many organizations.\nIn this informative webinar, you will learn more about:\n● The benefits of supply chain automation.\n● How an integrated TMS enables visibility & collaboration. \n● Robotic process automation & the TMS.\n
DTSTART:20200902T200000
DTEND:20200902T210000
DTSTAMP:20260419T172123Z
LOCATION:Online
PRIORITY:5
SEQUENCE:0
SUMMARY;LANGUAGE=es-es:Tecnowebinars.com - :: Leveraging Automation to Keep Product Moving Across Your Transportation Network
TRANSP:OPAQUE
UID:8af0029be144ac034cf3b829cadf6b3b Tecnowebinars.com
X-MICROSOFT-CDO-BUSYSTATUS:BUSY
X-MICROSOFT-CDO-IMPORTANCE:1
X-MICROSOFT-DISALLOW-COUNTER:FALSE
X-MS-OLK-ALLOWEXTERNCHECK:TRUE
X-MS-OLK-AUTOFILLLOCATION:FALSE
X-MS-OLK-CONFTYPE:0
BEGIN:VALARM
TRIGGER:-PT1440M
ACTION:DISPLAY
DESCRIPTION:Reminder
END:VALARM
END:VEVENT
END:VCALENDAR
