BEGIN:VCALENDAR
PRODID:-//Microsoft Corporation//Outlook 12.0 MIMEDIR//EN
VERSION:2.0
METHOD:PUBLISH
X-MS-OLK-FORCEINSPECTOROPEN:TRUE
BEGIN:VEVENT
CLASS:PUBLIC
CREATED:20260419T172124Z
DESCRIPTION: Your business-critical analytical applications depend on Hadoop but Cloudera faces an uncertain future in regards to viability, vision, and costs. With the imminent migration to CDP and Ozone – many organizations are confused by the upgrade paths, the availability timelines, and question the eventual benefits. \nAttend this industry roundtable to find out how to de-risk your business from these changes with an open and modern big data analytics estate that allows you to:\n-Leverage containerization to deliver immediate infrastructure efficiencies and a consistent cloud experience for data science.\n-Get more value from your data by embracing a best of breed open source ecosystem apps and technologies.\n-Expand your information estate from edge to cloud with multi-cloud flexibility.\n-Learn from the best practices of other organizations on how to achieve these benefits and efficiencies.\n
DTSTART:20200901T170000
DTEND:20200901T000000
DTSTAMP:20260419T172124Z
LOCATION:Online
PRIORITY:5
SEQUENCE:0
SUMMARY;LANGUAGE=es-es:Tecnowebinars.com - :: A New Era: Modern Big Data Solutions Roundtable with HPE Ezmeral
TRANSP:OPAQUE
UID:9d2f91e4b153f6563014a314e28593fb Tecnowebinars.com
X-MICROSOFT-CDO-BUSYSTATUS:BUSY
X-MICROSOFT-CDO-IMPORTANCE:1
X-MICROSOFT-DISALLOW-COUNTER:FALSE
X-MS-OLK-ALLOWEXTERNCHECK:TRUE
X-MS-OLK-AUTOFILLLOCATION:FALSE
X-MS-OLK-CONFTYPE:0
BEGIN:VALARM
TRIGGER:-PT1440M
ACTION:DISPLAY
DESCRIPTION:Reminder
END:VALARM
END:VEVENT
END:VCALENDAR
