BEGIN:VCALENDAR
PRODID:-//Microsoft Corporation//Outlook 12.0 MIMEDIR//EN
VERSION:2.0
METHOD:PUBLISH
X-MS-OLK-FORCEINSPECTOROPEN:TRUE
BEGIN:VEVENT
CLASS:PUBLIC
CREATED:20260419T173247Z
DESCRIPTION:VER VIDEO\n \nEste webinar recorrerá algunos de los principales problemas éticos y jurídicos derivados del uso de la robótica en el sector salud. Se discutirán los diversos usos de esta tecnología y a la vez se dará una breve explicación respecto a su funcionamiento. Se resaltarán los principales problemas éticos y legales respecto a la implementación de dichas herramientas y las respectivas respuestas en derecho en algunos de los sistemas jurídicos alrededor del mundo.\nAdemás se hará un enfoque especial en el área de la salud mental y sus efectos en la psiquiatría y la psicología tradicional. También se mostrarán los principales desafíos regulatorios y las posibles respuestas que pueden ser implementadas en América Latina.\n \nVER VIDEO\n
DTSTART:20200922T173000
DTEND:20200922T183000
DTSTAMP:20260419T173247Z
LOCATION:Online
PRIORITY:5
SEQUENCE:0
SUMMARY;LANGUAGE=es-es:Tecnowebinars.com - :: Inteligencia artificial y robótica en el sector salud: una perspectiva ética y jurídica
TRANSP:OPAQUE
UID:53b8f58985eacd811849addf668c3c24 Tecnowebinars.com
X-MICROSOFT-CDO-BUSYSTATUS:BUSY
X-MICROSOFT-CDO-IMPORTANCE:1
X-MICROSOFT-DISALLOW-COUNTER:FALSE
X-MS-OLK-ALLOWEXTERNCHECK:TRUE
X-MS-OLK-AUTOFILLLOCATION:FALSE
X-MS-OLK-CONFTYPE:0
BEGIN:VALARM
TRIGGER:-PT1440M
ACTION:DISPLAY
DESCRIPTION:Reminder
END:VALARM
END:VEVENT
END:VCALENDAR
