BEGIN:VCALENDAR
PRODID:-//Microsoft Corporation//Outlook 12.0 MIMEDIR//EN
VERSION:2.0
METHOD:PUBLISH
X-MS-OLK-FORCEINSPECTOROPEN:TRUE
BEGIN:VEVENT
CLASS:PUBLIC
CREATED:20260419T143610Z
DESCRIPTION:This year we are delighted to welcome Matt Warman, Minister for Digital Infrastructure, who will be speaking about the newest developments in the sector and how the regulators and government are keeping up. In a thirty minutes presentation, the minister will be answering questions on government priorities and the main post-Brexit challenges facing the cyber security landscape.\n \nNS Tech Editor Oscar Williams will be joined by Sydbank’s CISO, Per Silberg Hansen, for an exclusive interview on bank collaboration and its role in pioneering a new dynamic approach to cyber security.\nPer will speak about how will a standardised approach be shared whilst operating on different platforms, how can fear of interdependency restrict the pathway forward and how greater collaboration can impact operational risk.\n \nLater in the day, Louise Smith, Chief Digital Officer at Lloyd's will be offering an interview on the 2020’s cyber targets and beyond. She will discuss mobile payments replacing the traditional banking methods, vulnerabilities in the mobile back end systems and customer convenience trumping security and increasing risks.\n \n
DTSTART:20201124T150000
DTEND:20201124T000000
DTSTAMP:20260419T143610Z
LOCATION:Online
PRIORITY:5
SEQUENCE:0
SUMMARY;LANGUAGE=es-es:Tecnowebinars.com - :: Virtual Cyber Security in Financial Services 2020
TRANSP:OPAQUE
UID:bec519f6ca75c29583e35e2c95ebb397 Tecnowebinars.com
X-MICROSOFT-CDO-BUSYSTATUS:BUSY
X-MICROSOFT-CDO-IMPORTANCE:1
X-MICROSOFT-DISALLOW-COUNTER:FALSE
X-MS-OLK-ALLOWEXTERNCHECK:TRUE
X-MS-OLK-AUTOFILLLOCATION:FALSE
X-MS-OLK-CONFTYPE:0
BEGIN:VALARM
TRIGGER:-PT1440M
ACTION:DISPLAY
DESCRIPTION:Reminder
END:VALARM
END:VEVENT
END:VCALENDAR
