BEGIN:VCALENDAR
PRODID:-//Microsoft Corporation//Outlook 12.0 MIMEDIR//EN
VERSION:2.0
METHOD:PUBLISH
X-MS-OLK-FORCEINSPECTOROPEN:TRUE
BEGIN:VEVENT
CLASS:PUBLIC
CREATED:20260419T173246Z
DESCRIPTION:VER VIDEO\nEste webinar recorrerá las principales metodologías desarrolladas a nivel mundial, que permiten determinar la obsolencia de los empleos y profesiones, debido a la irrupción de las tecnologías disruptivas en los procesos de automatización.\nTambién se presentará una innovadora metodología denominada “Potencial Máximo de Automatización”, que fue desarrollada y aplicada en los oficios portuarios de Chile y que también puede utilizarse en cualquier sector industrial.\nFinalmente, se mostrará el resultado de los trabajos obsoletos en el sector portuario y la cantidad de trabajadores afectados.\nVER VIDEO\n
DTSTART:20200909T170000
DTEND:20200909T180000
DTSTAMP:20260419T173246Z
LOCATION:Online
PRIORITY:5
SEQUENCE:0
SUMMARY;LANGUAGE=es-es:Tecnowebinars.com - :: Innovadora metodología que determina la obsolencia de los empleos por la automatización
TRANSP:OPAQUE
UID:a9266c4ff8b032e39ec12797601225ae Tecnowebinars.com
X-MICROSOFT-CDO-BUSYSTATUS:BUSY
X-MICROSOFT-CDO-IMPORTANCE:1
X-MICROSOFT-DISALLOW-COUNTER:FALSE
X-MS-OLK-ALLOWEXTERNCHECK:TRUE
X-MS-OLK-AUTOFILLLOCATION:FALSE
X-MS-OLK-CONFTYPE:0
BEGIN:VALARM
TRIGGER:-PT1440M
ACTION:DISPLAY
DESCRIPTION:Reminder
END:VALARM
END:VEVENT
END:VCALENDAR
