BEGIN:VCALENDAR
PRODID:-//Microsoft Corporation//Outlook 12.0 MIMEDIR//EN
VERSION:2.0
METHOD:PUBLISH
X-MS-OLK-FORCEINSPECTOROPEN:TRUE
BEGIN:VEVENT
CLASS:PUBLIC
CREATED:20260419T170949Z
DESCRIPTION: \nChanging times demand disruptive solutions, and we know that digital experiences are key to boost human connections and improvements. That’s why we’ve created a brand new way of coding that will shake your world. \nGlobant presents Augmented Coding, an AI-powered solution that will change forever the software development industry. We are reshaping the future of work with a unique coding vision that is here to stay.\n \nSpeakers:\nSteve Wozniak\nTop Technology Speaker, Innovation Expert, Cult Icon, Co-Founder of Apple Computer, and Bestselling Author\nMartín Migoya\nCEO & Co-founder, Globant\n \nHaldo Sponton\nHead of AI Development\nMichael Feathers\nFounder and Director of R7K and author of “Working Effectively with Legacy Code”\nJames Taylor\nCreativity Speaker, Award-winning Entrepreneur, Founder of C.SCHOOL\n
DTSTART:20200917T180000
DTEND:20200917T190000
DTSTAMP:20260419T170949Z
LOCATION:Online
PRIORITY:5
SEQUENCE:0
SUMMARY;LANGUAGE=es-es:Tecnowebinars.com - :: Programación dimensionada para Inteligencia Artificial
TRANSP:OPAQUE
UID:94f26551ccbe23c13b439f0cfa4d9963 Tecnowebinars.com
X-MICROSOFT-CDO-BUSYSTATUS:BUSY
X-MICROSOFT-CDO-IMPORTANCE:1
X-MICROSOFT-DISALLOW-COUNTER:FALSE
X-MS-OLK-ALLOWEXTERNCHECK:TRUE
X-MS-OLK-AUTOFILLLOCATION:FALSE
X-MS-OLK-CONFTYPE:0
BEGIN:VALARM
TRIGGER:-PT1440M
ACTION:DISPLAY
DESCRIPTION:Reminder
END:VALARM
END:VEVENT
END:VCALENDAR
