BEGIN:VCALENDAR
PRODID:-//Microsoft Corporation//Outlook 12.0 MIMEDIR//EN
VERSION:2.0
METHOD:PUBLISH
X-MS-OLK-FORCEINSPECTOROPEN:TRUE
BEGIN:VEVENT
CLASS:PUBLIC
CREATED:20260419T172122Z
DESCRIPTION: - Como líder ¿Qué puedo controlar? ¿Qué puedo influir? ¿Qué tengo que aceptar (y rápido)?\n- La importancia de la confianza.\n- ¿Sobre qué talento apalancar lo que sucede?\n- Liderar con humildad, hambre e inteligencia emocional.\n- Manejar el pensamiento racional y las emociones saludables.\n- Primero definir quién lo acompaña a enfrentar este desafío.\n- Reconocimiento efectivo, para que “los buenos” continúen haciendo lo que están haciendo.\n- En estos momentos “con el ejemplo NO basta”.\n \nSpeaker:\nSantiago Fernandez Escobar (Acros Training – Argentina)\n
DTSTART:20200923T160000
DTEND:20200923T170000
DTSTAMP:20260419T172122Z
LOCATION:Online
PRIORITY:5
SEQUENCE:0
SUMMARY;LANGUAGE=es-es:Tecnowebinars.com - :: Liderar la incertidumbre
TRANSP:OPAQUE
UID:df74ca5a4676b9948a3c400a21251be8 Tecnowebinars.com
X-MICROSOFT-CDO-BUSYSTATUS:BUSY
X-MICROSOFT-CDO-IMPORTANCE:1
X-MICROSOFT-DISALLOW-COUNTER:FALSE
X-MS-OLK-ALLOWEXTERNCHECK:TRUE
X-MS-OLK-AUTOFILLLOCATION:FALSE
X-MS-OLK-CONFTYPE:0
BEGIN:VALARM
TRIGGER:-PT1440M
ACTION:DISPLAY
DESCRIPTION:Reminder
END:VALARM
END:VEVENT
END:VCALENDAR
