BEGIN:VCALENDAR
PRODID:-//Microsoft Corporation//Outlook 12.0 MIMEDIR//EN
VERSION:2.0
METHOD:PUBLISH
X-MS-OLK-FORCEINSPECTOROPEN:TRUE
BEGIN:VEVENT
CLASS:PUBLIC
CREATED:20260419T173246Z
DESCRIPTION:La trascendencia de la auditoría interna en el diseño e implementación de tecnologías para el monitoreo continuo de áreas operativas. El camino hacia la innovación que permita la independencia al acceso y generación de informes, obtener una planificación dinámica de trabajos, formar colaboradores con autogestión de datos, medición de resultados, gestión de riesgos y controles, agregando valor a la función del auditor interno a través de las mejoras continuas en áreas operativas y la asociación estratégica con soluciones tecnológicas.\n \nSpeaker:\nJaime Torres (Especialista en proyectos sensibilización en seguridad y simulaciones de phishing - Terranova / Sedika Technologies – Canadá)\n
DTSTART:20200922T160000
DTEND:20200922T170000
DTSTAMP:20260419T173246Z
LOCATION:Online
PRIORITY:5
SEQUENCE:0
SUMMARY;LANGUAGE=es-es:Tecnowebinars.com - :: Caso de Éxito - Monitoreo Continuo: Agregando valor desde la auditoría interna a las áreas operativas
TRANSP:OPAQUE
UID:463d262cc490b1071745843ddb659729 Tecnowebinars.com
X-MICROSOFT-CDO-BUSYSTATUS:BUSY
X-MICROSOFT-CDO-IMPORTANCE:1
X-MICROSOFT-DISALLOW-COUNTER:FALSE
X-MS-OLK-ALLOWEXTERNCHECK:TRUE
X-MS-OLK-AUTOFILLLOCATION:FALSE
X-MS-OLK-CONFTYPE:0
BEGIN:VALARM
TRIGGER:-PT1440M
ACTION:DISPLAY
DESCRIPTION:Reminder
END:VALARM
END:VEVENT
END:VCALENDAR
