BEGIN:VCALENDAR
PRODID:-//Microsoft Corporation//Outlook 12.0 MIMEDIR//EN
VERSION:2.0
METHOD:PUBLISH
X-MS-OLK-FORCEINSPECTOROPEN:TRUE
BEGIN:VEVENT
CLASS:PUBLIC
CREATED:20260419T173246Z
DESCRIPTION:Una mirada objetiva y estratégica de la concientización en seguridad de la información. Su importancia y relevancia en el ámbito digital. Por qué hoy más que nunca es necesario el cambio de comportamiento del usuario y la generación de una fuerte cultura en seguridad.\n \nSpeaker:\nJaime Torres (Especialista en proyectos sensibilización en seguridad y simulaciones de phishing - Terranova / Sedika Technologies – Canadá)\n
DTSTART:20200916T160000
DTEND:20200916T170000
DTSTAMP:20260419T173246Z
LOCATION:Online
PRIORITY:5
SEQUENCE:0
SUMMARY;LANGUAGE=es-es:Tecnowebinars.com - :: La importancia de la sensibilización en la seguridad de la información
TRANSP:OPAQUE
UID:21f2988393123fd7dbc323b594d659c5 Tecnowebinars.com
X-MICROSOFT-CDO-BUSYSTATUS:BUSY
X-MICROSOFT-CDO-IMPORTANCE:1
X-MICROSOFT-DISALLOW-COUNTER:FALSE
X-MS-OLK-ALLOWEXTERNCHECK:TRUE
X-MS-OLK-AUTOFILLLOCATION:FALSE
X-MS-OLK-CONFTYPE:0
BEGIN:VALARM
TRIGGER:-PT1440M
ACTION:DISPLAY
DESCRIPTION:Reminder
END:VALARM
END:VEVENT
END:VCALENDAR
