BEGIN:VCALENDAR
PRODID:-//Microsoft Corporation//Outlook 12.0 MIMEDIR//EN
VERSION:2.0
METHOD:PUBLISH
X-MS-OLK-FORCEINSPECTOROPEN:TRUE
BEGIN:VEVENT
CLASS:PUBLIC
CREATED:20260419T172123Z
DESCRIPTION:Cómo Highbond permitió homologar el trabajo de auditoría desde la planificación hasta el seguimiento de plan y observaciones.\n \nSpeaker:\nDavid Sandoval (Jefe de transformación digital – Grupo Falabella – Chile)\n
DTSTART:20200915T160000
DTEND:20200915T170000
DTSTAMP:20260419T172123Z
LOCATION:Online
PRIORITY:5
SEQUENCE:0
SUMMARY;LANGUAGE=es-es:Tecnowebinars.com - :: Caso de Éxito: Gestión de Auditoría Interna con Highbond (GRC)
TRANSP:OPAQUE
UID:363d7665c9423fd0331c466d5d2c1440 Tecnowebinars.com
X-MICROSOFT-CDO-BUSYSTATUS:BUSY
X-MICROSOFT-CDO-IMPORTANCE:1
X-MICROSOFT-DISALLOW-COUNTER:FALSE
X-MS-OLK-ALLOWEXTERNCHECK:TRUE
X-MS-OLK-AUTOFILLLOCATION:FALSE
X-MS-OLK-CONFTYPE:0
BEGIN:VALARM
TRIGGER:-PT1440M
ACTION:DISPLAY
DESCRIPTION:Reminder
END:VALARM
END:VEVENT
END:VCALENDAR
