BEGIN:VCALENDAR
PRODID:-//Microsoft Corporation//Outlook 12.0 MIMEDIR//EN
VERSION:2.0
METHOD:PUBLISH
X-MS-OLK-FORCEINSPECTOROPEN:TRUE
BEGIN:VEVENT
CLASS:PUBLIC
CREATED:20260419T171015Z
DESCRIPTION:Paulatinamente se comienzan a establecer parámetros para reabrir las empresas, pero traer a su gente nuevamente al sitio con éxito no será tan simple como accionar un interruptor. Cada empresa es única, aunque enfrenta las mismas preocupaciones: dónde comenzar, cómo mantener a las personas protegidas, cuándo comunicarse y cuál es la forma correcta de avanzar. El desafío es complejo, el objetivo de la presentación es establecer un marco y lineamiento de por dónde comenzar para avanzar con éxito y en forma segura.\n \nSpeaker:\nValeria Flaviani (Partner - PMA Consultores - Argentina)\n
DTSTART:20200909T160000
DTEND:20200909T170000
DTSTAMP:20260419T171015Z
LOCATION:Online
PRIORITY:5
SEQUENCE:0
SUMMARY;LANGUAGE=es-es:Tecnowebinars.com - :: Camino a la nueva normalidad post COVID-19
TRANSP:OPAQUE
UID:eb636b393d155b8e4a763cf3aa3c90cc Tecnowebinars.com
X-MICROSOFT-CDO-BUSYSTATUS:BUSY
X-MICROSOFT-CDO-IMPORTANCE:1
X-MICROSOFT-DISALLOW-COUNTER:FALSE
X-MS-OLK-ALLOWEXTERNCHECK:TRUE
X-MS-OLK-AUTOFILLLOCATION:FALSE
X-MS-OLK-CONFTYPE:0
BEGIN:VALARM
TRIGGER:-PT1440M
ACTION:DISPLAY
DESCRIPTION:Reminder
END:VALARM
END:VEVENT
END:VCALENDAR
