BEGIN:VCALENDAR
PRODID:-//Microsoft Corporation//Outlook 12.0 MIMEDIR//EN
VERSION:2.0
METHOD:PUBLISH
X-MS-OLK-FORCEINSPECTOROPEN:TRUE
BEGIN:VEVENT
CLASS:PUBLIC
CREATED:20260419T171047Z
DESCRIPTION:Cómo deben posicionarse las empresas frente al desafío de la transformación digital, quiénes son sus interesados claves, los riesgos y cómo enfrentarlos.\n \nSpeaker:\nJorge Hidalgo (Gerente Gobierno de TI –Interop Latinoamérica)\n
DTSTART:20200908T160000
DTEND:20200908T170000
DTSTAMP:20260419T171047Z
LOCATION:Online
PRIORITY:5
SEQUENCE:0
SUMMARY;LANGUAGE=es-es:Tecnowebinars.com - :: Gobierno de Soluciones Digitales
TRANSP:OPAQUE
UID:1c1e7f52c42ffe82973316fa0b1986f0 Tecnowebinars.com
X-MICROSOFT-CDO-BUSYSTATUS:BUSY
X-MICROSOFT-CDO-IMPORTANCE:1
X-MICROSOFT-DISALLOW-COUNTER:FALSE
X-MS-OLK-ALLOWEXTERNCHECK:TRUE
X-MS-OLK-AUTOFILLLOCATION:FALSE
X-MS-OLK-CONFTYPE:0
BEGIN:VALARM
TRIGGER:-PT1440M
ACTION:DISPLAY
DESCRIPTION:Reminder
END:VALARM
END:VEVENT
END:VCALENDAR
