BEGIN:VCALENDAR
PRODID:-//Microsoft Corporation//Outlook 12.0 MIMEDIR//EN
VERSION:2.0
METHOD:PUBLISH
X-MS-OLK-FORCEINSPECTOROPEN:TRUE
BEGIN:VEVENT
CLASS:PUBLIC
CREATED:20260419T172210Z
DESCRIPTION:Cómo Galvanize aprovechó "su propia medicina" implementando HighBond para asegurar la continuidad y efectividad del funcionamiento de sus equipos de trabajo y la atención de sus clientes.\n \nSpeaker:\nDan Zitting (Chief Product & Strategy Officer – Galvanize – Canadá)\n
DTSTART:20200902T160000
DTEND:20200902T170000
DTSTAMP:20260419T172210Z
LOCATION:Online
PRIORITY:5
SEQUENCE:0
SUMMARY;LANGUAGE=es-es:Tecnowebinars.com - :: Cómo Galvanize afrontó COVID-19 usando sus propias soluciones
TRANSP:OPAQUE
UID:946c7437b67b77e5cf736a59e2232234 Tecnowebinars.com
X-MICROSOFT-CDO-BUSYSTATUS:BUSY
X-MICROSOFT-CDO-IMPORTANCE:1
X-MICROSOFT-DISALLOW-COUNTER:FALSE
X-MS-OLK-ALLOWEXTERNCHECK:TRUE
X-MS-OLK-AUTOFILLLOCATION:FALSE
X-MS-OLK-CONFTYPE:0
BEGIN:VALARM
TRIGGER:-PT1440M
ACTION:DISPLAY
DESCRIPTION:Reminder
END:VALARM
END:VEVENT
END:VCALENDAR
