BEGIN:VCALENDAR
PRODID:-//Microsoft Corporation//Outlook 12.0 MIMEDIR//EN
VERSION:2.0
METHOD:PUBLISH
X-MS-OLK-FORCEINSPECTOROPEN:TRUE
BEGIN:VEVENT
CLASS:PUBLIC
CREATED:20260419T172100Z
DESCRIPTION:El equipo de auditoría del Grupo Campari desarrolló controles automatizados para temas de cumplimiento, publicando sus resultados en HighBond. Esto le ha permitido mejorar el flujo de trabajo interno y entregar resultados críticos para los responsables de procesos y directores de finanzas.\n \nSpeaker:\nGiuseppe Dello Iacono (Gerente de Auditoría Interna y Data Analytics – Grupo Campari – Italia)\n
DTSTART:20200901T160000
DTEND:20200901T170000
DTSTAMP:20260419T172100Z
LOCATION:Online
PRIORITY:5
SEQUENCE:0
SUMMARY;LANGUAGE=es-es:Tecnowebinars.com - :: Caso de Éxito: Compliance - Una forma eficiente de encararla con auditoría interna
TRANSP:OPAQUE
UID:62782833b42978b111ae0483dd5f2326 Tecnowebinars.com
X-MICROSOFT-CDO-BUSYSTATUS:BUSY
X-MICROSOFT-CDO-IMPORTANCE:1
X-MICROSOFT-DISALLOW-COUNTER:FALSE
X-MS-OLK-ALLOWEXTERNCHECK:TRUE
X-MS-OLK-AUTOFILLLOCATION:FALSE
X-MS-OLK-CONFTYPE:0
BEGIN:VALARM
TRIGGER:-PT1440M
ACTION:DISPLAY
DESCRIPTION:Reminder
END:VALARM
END:VEVENT
END:VCALENDAR
