BEGIN:VCALENDAR
PRODID:-//Microsoft Corporation//Outlook 12.0 MIMEDIR//EN
VERSION:2.0
METHOD:PUBLISH
X-MS-OLK-FORCEINSPECTOROPEN:TRUE
BEGIN:VEVENT
CLASS:PUBLIC
CREATED:20260419T185413Z
DESCRIPTION:Cómo puede mejorarse la integración de las tres líneas de defensa para el manejo de Gobierno, Riesgos, Controles, Cumplimiento y Auditoría Interna.\n \nSpeaker:\nSandro Freitas Oliveira – (Gerente de Auditoría Interna, Riesgo y Cumplimiento – Unigel – Brasil)\n
DTSTART:20200826T160000
DTEND:20200826T170000
DTSTAMP:20260419T185413Z
LOCATION:Online
PRIORITY:5
SEQUENCE:0
SUMMARY;LANGUAGE=es-es:Tecnowebinars.com - :: Trabajo en conjunto de las líneas de defensa para una mitigación eficaz
TRANSP:OPAQUE
UID:38afc97a6d47c1a8558e3053fc11501f Tecnowebinars.com
X-MICROSOFT-CDO-BUSYSTATUS:BUSY
X-MICROSOFT-CDO-IMPORTANCE:1
X-MICROSOFT-DISALLOW-COUNTER:FALSE
X-MS-OLK-ALLOWEXTERNCHECK:TRUE
X-MS-OLK-AUTOFILLLOCATION:FALSE
X-MS-OLK-CONFTYPE:0
BEGIN:VALARM
TRIGGER:-PT1440M
ACTION:DISPLAY
DESCRIPTION:Reminder
END:VALARM
END:VEVENT
END:VCALENDAR
