BEGIN:VCALENDAR
PRODID:-//Microsoft Corporation//Outlook 12.0 MIMEDIR//EN
VERSION:2.0
METHOD:PUBLISH
X-MS-OLK-FORCEINSPECTOROPEN:TRUE
BEGIN:VEVENT
CLASS:PUBLIC
CREATED:20260419T185317Z
DESCRIPTION:Presentación de investigaciones de fraudes que proveen ideas para encarar procesos de detección, en el marco de los tipos de fraude más comunes.\n \nSpeaker:\nSteve Goepfert (Ex Vicepresidente de Auditoría Interna - United Airlines – USA)\n \n
DTSTART:20200825T160000
DTEND:20200825T170000
DTSTAMP:20260419T185317Z
LOCATION:Online
PRIORITY:5
SEQUENCE:0
SUMMARY;LANGUAGE=es-es:Tecnowebinars.com - :: Detectar y combatir el fraude - Nuestra Responsabilidad
TRANSP:OPAQUE
UID:d87c34025c90056453e5373d13aa3c66 Tecnowebinars.com
X-MICROSOFT-CDO-BUSYSTATUS:BUSY
X-MICROSOFT-CDO-IMPORTANCE:1
X-MICROSOFT-DISALLOW-COUNTER:FALSE
X-MS-OLK-ALLOWEXTERNCHECK:TRUE
X-MS-OLK-AUTOFILLLOCATION:FALSE
X-MS-OLK-CONFTYPE:0
BEGIN:VALARM
TRIGGER:-PT1440M
ACTION:DISPLAY
DESCRIPTION:Reminder
END:VALARM
END:VEVENT
END:VCALENDAR
