BEGIN:VCALENDAR
PRODID:-//Microsoft Corporation//Outlook 12.0 MIMEDIR//EN
VERSION:2.0
METHOD:PUBLISH
X-MS-OLK-FORCEINSPECTOROPEN:TRUE
BEGIN:VEVENT
CLASS:PUBLIC
CREATED:20260419T185317Z
DESCRIPTION:Qué herramientas y técnicas serán usadas por los profesionales de auditoría y riesgos del futuro. Una lección de la crisis actual es que debemos estar preparados para un futuro muy diferente en el que se debe ser dinámico y anticipatorio más que focalizarse en el pasado. Cómo es posible incluir datos de fuentes en la nube, incorporar técnicas de machine learning y nuevas tecnologías analíticas para atender las rápidamente cambiantes necesidades de la profesión.\n \nSpeaker:\nPhil Lim (Senior Product Manager – Galvanize – Canadá)\n \n
DTSTART:20200819T160000
DTEND:20200819T170000
DTSTAMP:20260419T185317Z
LOCATION:Online
PRIORITY:5
SEQUENCE:0
SUMMARY;LANGUAGE=es-es:Tecnowebinars.com - :: Data Analytics para los profesionales del futuro - Novedades de ACL Analytics y Robots
TRANSP:OPAQUE
UID:0219f729dda823c157fc19b51e26d7af Tecnowebinars.com
X-MICROSOFT-CDO-BUSYSTATUS:BUSY
X-MICROSOFT-CDO-IMPORTANCE:1
X-MICROSOFT-DISALLOW-COUNTER:FALSE
X-MS-OLK-ALLOWEXTERNCHECK:TRUE
X-MS-OLK-AUTOFILLLOCATION:FALSE
X-MS-OLK-CONFTYPE:0
BEGIN:VALARM
TRIGGER:-PT1440M
ACTION:DISPLAY
DESCRIPTION:Reminder
END:VALARM
END:VEVENT
END:VCALENDAR
