BEGIN:VCALENDAR
PRODID:-//Microsoft Corporation//Outlook 12.0 MIMEDIR//EN
VERSION:2.0
METHOD:PUBLISH
X-MS-OLK-FORCEINSPECTOROPEN:TRUE
BEGIN:VEVENT
CLASS:PUBLIC
CREATED:20260419T184223Z
DESCRIPTION:Cómo comenzar a gestionar el riesgo de TI en HighBond. Desde IT Compliance y gestión de riesgos a automatización de controles e informes ejecutivos, la solución ayuda a las organizaciones a entender su posición reguladora frente a las normas aplicables incluyendo CIS, ISO, GDPR, NIST y otras.\n \nSpeakers: Ryan Torio / Muldir Baidol (Consultores Senior – Galvanize – Canadá)\n
DTSTART:20200818T160000
DTEND:20200818T170000
DTSTAMP:20260419T184223Z
LOCATION:Online
PRIORITY:5
SEQUENCE:0
SUMMARY;LANGUAGE=es-es:Tecnowebinars.com - :: Digitalizando la gestión del riesgo de TI
TRANSP:OPAQUE
UID:17373e904e01dde311cf9f9da0dd7acc Tecnowebinars.com
X-MICROSOFT-CDO-BUSYSTATUS:BUSY
X-MICROSOFT-CDO-IMPORTANCE:1
X-MICROSOFT-DISALLOW-COUNTER:FALSE
X-MS-OLK-ALLOWEXTERNCHECK:TRUE
X-MS-OLK-AUTOFILLLOCATION:FALSE
X-MS-OLK-CONFTYPE:0
BEGIN:VALARM
TRIGGER:-PT1440M
ACTION:DISPLAY
DESCRIPTION:Reminder
END:VALARM
END:VEVENT
END:VCALENDAR
