BEGIN:VCALENDAR
PRODID:-//Microsoft Corporation//Outlook 12.0 MIMEDIR//EN
VERSION:2.0
METHOD:PUBLISH
X-MS-OLK-FORCEINSPECTOROPEN:TRUE
BEGIN:VEVENT
CLASS:PUBLIC
CREATED:20260419T183057Z
DESCRIPTION:What if there was a way to increase the percentage of your company's new product designs that were optimized for manufacturability and cost, reduce the time it takes to deliver these new products to market – all without impacting the work load of your engineering team?\nIn this webinar we will show you how to:\nDesign innovative products from anywhere (a home office, for example) with fewer resources and in less time\nImprove the profitability of your products and the efficiency of your design and delivery process\nHelp your company to make up for lost revenue and profits\nCompete with more nimble companies that have already fully embraced the concepts of digital transformation\nWe will also preview Cost Insight Generate - a revolutionary new digital manufacturing simulation technology from aPriori – which works silently in the background, analyzing your digital twin CAD models every time they are checked into your PLM system.\n
DTSTART:20200826T160000
DTEND:20200826T170000
DTSTAMP:20260419T183057Z
LOCATION:Online
PRIORITY:5
SEQUENCE:0
SUMMARY;LANGUAGE=es-es:Tecnowebinars.com - :: The Exhausted Engineer
TRANSP:OPAQUE
UID:ec3fbba883c105ce0aca0620f0e6e21a Tecnowebinars.com
X-MICROSOFT-CDO-BUSYSTATUS:BUSY
X-MICROSOFT-CDO-IMPORTANCE:1
X-MICROSOFT-DISALLOW-COUNTER:FALSE
X-MS-OLK-ALLOWEXTERNCHECK:TRUE
X-MS-OLK-AUTOFILLLOCATION:FALSE
X-MS-OLK-CONFTYPE:0
BEGIN:VALARM
TRIGGER:-PT1440M
ACTION:DISPLAY
DESCRIPTION:Reminder
END:VALARM
END:VEVENT
END:VCALENDAR
