BEGIN:VCALENDAR
PRODID:-//Microsoft Corporation//Outlook 12.0 MIMEDIR//EN
VERSION:2.0
METHOD:PUBLISH
X-MS-OLK-FORCEINSPECTOROPEN:TRUE
BEGIN:VEVENT
CLASS:PUBLIC
CREATED:20260419T172257Z
DESCRIPTION:VER VIDEO \nLa Suite Compleo de Symtrax permite la creación de flujos, la aprobación y la gestión de los documentos transaccionales que generan los diversos aplicativos empresariales (ERP fundamentalmente, pero también BPM o CRM). \nLa situación en la que están viviendo muchas empresas hoy en que gran parte de su fuerza laboral está en teletrabajo ha añadido un punto de complicación a todos esos procesos y flujos documentales. \nUno de los aspectos fundamentales en todo flujo documental es la Validación y Firma de los mismos. Symtrax quiere explicarles en este webinar cómo están resolviendo este aspecto en esta situación. \nQué veremos en el webinar:\n- Creación de workflows automáticos dinámicos e inteligentes mediante herramienta totalmente parametrizable para todos los departamentos de la empress\n- Integración con la propia Arquitectura de la empresa\n- Conexión a las bases de datos actuales\n- Validación de todo tipo de documentos empresariales.\n- Conciliación automática de documentos. \n- Firmas electrónicas y certificadas.\n- Validación on the go.\n- Se hará una demo online y se demostrarán algunas formas rápidas de parametrización de las funcionalidades.\nVER VIDEO \n
DTSTART:20200910T110000
DTEND:20200910T123000
DTSTAMP:20260419T172257Z
LOCATION:Online
PRIORITY:5
SEQUENCE:0
SUMMARY;LANGUAGE=es-es:Tecnowebinars.com - :: Validación y Firma de documentos transaccionales en tiempos de Teletrabajo con Compleo
TRANSP:OPAQUE
UID:59557c69d550be9ce4723b6a1fb9388f Tecnowebinars.com
X-MICROSOFT-CDO-BUSYSTATUS:BUSY
X-MICROSOFT-CDO-IMPORTANCE:1
X-MICROSOFT-DISALLOW-COUNTER:FALSE
X-MS-OLK-ALLOWEXTERNCHECK:TRUE
X-MS-OLK-AUTOFILLLOCATION:FALSE
X-MS-OLK-CONFTYPE:0
BEGIN:VALARM
TRIGGER:-PT1440M
ACTION:DISPLAY
DESCRIPTION:Reminder
END:VALARM
END:VEVENT
END:VCALENDAR
