BEGIN:VCALENDAR
PRODID:-//Microsoft Corporation//Outlook 12.0 MIMEDIR//EN
VERSION:2.0
METHOD:PUBLISH
X-MS-OLK-FORCEINSPECTOROPEN:TRUE
BEGIN:VEVENT
CLASS:PUBLIC
CREATED:20260419T184205Z
DESCRIPTION: In this webinar you will learn from experts how database technology is adapting to and embracing an enterprise IT environment built to support advanced analytics and AI. During the session we will discuss the:\nContinuous integration and constant change defined by Agile concepts\nNeed to support application development driven by non-technical business users\nSpeed, reliability and flexibility demanded by anywhere/anytime access\nNeed to support and scale for massive, T-byte sized data volumes of operational, transactional, and customer information.\n\nFeatured Speakers:\n\nHolger Mueller\nVice President and Principal Analyst\nConstellation Research, Inc.\n\nLenley Hensarling\nChief Strategy Officer\nAerospike\n\nEric Bruno\nContributing Editor\nInformationWeek\n\n
DTSTART:20200827T180000
DTEND:20200827T190000
DTSTAMP:20260419T184205Z
LOCATION:Online
PRIORITY:5
SEQUENCE:0
SUMMARY;LANGUAGE=es-es:Tecnowebinars.com - :: Enterprise Database Strategies for 2020
TRANSP:OPAQUE
UID:e30ca41302df87273668bb682eba06d4 Tecnowebinars.com
X-MICROSOFT-CDO-BUSYSTATUS:BUSY
X-MICROSOFT-CDO-IMPORTANCE:1
X-MICROSOFT-DISALLOW-COUNTER:FALSE
X-MS-OLK-ALLOWEXTERNCHECK:TRUE
X-MS-OLK-AUTOFILLLOCATION:FALSE
X-MS-OLK-CONFTYPE:0
BEGIN:VALARM
TRIGGER:-PT1440M
ACTION:DISPLAY
DESCRIPTION:Reminder
END:VALARM
END:VEVENT
END:VCALENDAR
