BEGIN:VCALENDAR
PRODID:-//Microsoft Corporation//Outlook 12.0 MIMEDIR//EN
VERSION:2.0
METHOD:PUBLISH
X-MS-OLK-FORCEINSPECTOROPEN:TRUE
BEGIN:VEVENT
CLASS:PUBLIC
CREATED:20260419T185414Z
DESCRIPTION: As advances in processing continue to play an increasingly prominent role in automotive evolution, carmakers are turning to custom silicon designs to deliver the “just right” blends of cost, power and advanced features necessary to enable an autonomous future.\nThis webinar will outline:\nHow chip design has been democratized, enabling carmakers, chipmakers, tier one suppliers, software houses and other vendors to collaborate on the development and customization of extraordinarily complex silicon devices for autonomous vehicles.\nA robust platform for this collaboration, speeding chip design and enabling the creation of model-specific silicon for first-generation self-driving cars.\nHow the Xcelerator portfolio serves as a catalyst for digital transformation, with the comprehensive digital twin at the center enabling cross-domain engineering, virtual validation and continuous product and process improvement through a closed feedback loop.\n
DTSTART:20200817T200000
DTEND:20200817T203000
DTSTAMP:20260419T185414Z
LOCATION:Online
PRIORITY:5
SEQUENCE:0
SUMMARY;LANGUAGE=es-es:Tecnowebinars.com - :: From Chip to City: the comprehensive digital twin applied to autonomous vehicle development
TRANSP:OPAQUE
UID:e1ac970bc5210b4ce254d198a9e621da Tecnowebinars.com
X-MICROSOFT-CDO-BUSYSTATUS:BUSY
X-MICROSOFT-CDO-IMPORTANCE:1
X-MICROSOFT-DISALLOW-COUNTER:FALSE
X-MS-OLK-ALLOWEXTERNCHECK:TRUE
X-MS-OLK-AUTOFILLLOCATION:FALSE
X-MS-OLK-CONFTYPE:0
BEGIN:VALARM
TRIGGER:-PT1440M
ACTION:DISPLAY
DESCRIPTION:Reminder
END:VALARM
END:VEVENT
END:VCALENDAR
