BEGIN:VCALENDAR
PRODID:-//Microsoft Corporation//Outlook 12.0 MIMEDIR//EN
VERSION:2.0
METHOD:PUBLISH
X-MS-OLK-FORCEINSPECTOROPEN:TRUE
BEGIN:VEVENT
CLASS:PUBLIC
CREATED:20260419T184331Z
DESCRIPTION: \nOn Thursday, August 27th at 3 pm EST, join FoodLogiQ and Chipotle for a conversation on the current state of traceability and how the fast casual brand has embraced tech-enabled traceability to deliver their mission of food with integrity. FoodLogiQ’s Vice President of Supply Chain Strategy and Insights Julie McGill and Chipotle’s Supply Chain Systems Manager Mario Estrada will discuss how case-level traceability fits into Chipotle’s daily operations, ensures ongoing compliance and enables a focus on quality food with fresh ingredients.\nIn addition, the pair will elaborate on Chipotle’s use of Exception Reports to identify gaps in critical tracking event data, guarantee product consistency and prevent non-compliance.\n
DTSTART:20200827T210000
DTEND:20200827T220000
DTSTAMP:20260419T184331Z
LOCATION:Online
PRIORITY:5
SEQUENCE:0
SUMMARY;LANGUAGE=es-es:Tecnowebinars.com - :: How Chipotle Tracks Their Supply Chain to Deliver Food with Integrity
TRANSP:OPAQUE
UID:ebc0576ac0abd741bd1e03796e131806 Tecnowebinars.com
X-MICROSOFT-CDO-BUSYSTATUS:BUSY
X-MICROSOFT-CDO-IMPORTANCE:1
X-MICROSOFT-DISALLOW-COUNTER:FALSE
X-MS-OLK-ALLOWEXTERNCHECK:TRUE
X-MS-OLK-AUTOFILLLOCATION:FALSE
X-MS-OLK-CONFTYPE:0
BEGIN:VALARM
TRIGGER:-PT1440M
ACTION:DISPLAY
DESCRIPTION:Reminder
END:VALARM
END:VEVENT
END:VCALENDAR
