BEGIN:VCALENDAR
PRODID:-//Microsoft Corporation//Outlook 12.0 MIMEDIR//EN
VERSION:2.0
METHOD:PUBLISH
X-MS-OLK-FORCEINSPECTOROPEN:TRUE
BEGIN:VEVENT
CLASS:PUBLIC
CREATED:20260419T161121Z
DESCRIPTION:VER VIDEO\n \nSiemens Digital Industries ha incorporado a su portfolio Mendix, una plataforma de desarrollo Low Code de aplicaciones que permite a usuarios de negocio avanzados (Citizen Developers) de todos los sectores desarrollar aplicaciones de negocio sin necesidad de intervención por parte de IT. O al menos sin necesidad de intervención en todo el proyecto. \n \nLa creciente demanda de soluciones excede la capacidad de las organizaciones. El 77% de los departamentos de IT y el 71% de las empresas señalan que los equipos de IT reciben multitud de solicitudes a las cuales no pueden hacer frente en tiempo y coste dada la limitación de recursos.\n \nLas metodologías tradicionales de desarrollo no integran adecuadamente la perspectiva empresarial y a menudo no se cubren correctamente las necesidades una vez que la solución ha sido desplegada.\n \nNo se proporciona el apoyo suficiente al negocio por lo que desde negocio se recurre a herramientas y aplicaciones a medida, en múltiples casos no autorizadas, sin ofrecer visibilidad a IT.   El desarrollo low-code está transformando la manera en la que las empresas construyen, implementan y gestionan aplicaciones para conseguir sus objetivos de digitalización y eliminar la brecha existente entre la demanda de negocio y la capacidad de los departamentos de IT.\n \n VER VIDEO \n
DTSTART:20200929T110000
DTEND:20200929T120000
DTSTAMP:20260419T161121Z
LOCATION:Online
PRIORITY:5
SEQUENCE:0
SUMMARY;LANGUAGE=es-es:Tecnowebinars.com - :: Low Code/ No Code: La revolución del desarrollo de aplicaciones que no deberías perderte
TRANSP:OPAQUE
UID:284ae34bb0de2280a8d443848060afec Tecnowebinars.com
X-MICROSOFT-CDO-BUSYSTATUS:BUSY
X-MICROSOFT-CDO-IMPORTANCE:1
X-MICROSOFT-DISALLOW-COUNTER:FALSE
X-MS-OLK-ALLOWEXTERNCHECK:TRUE
X-MS-OLK-AUTOFILLLOCATION:FALSE
X-MS-OLK-CONFTYPE:0
BEGIN:VALARM
TRIGGER:-PT1440M
ACTION:DISPLAY
DESCRIPTION:Reminder
END:VALARM
END:VEVENT
END:VCALENDAR
