BEGIN:VCALENDAR
PRODID:-//Microsoft Corporation//Outlook 12.0 MIMEDIR//EN
VERSION:2.0
METHOD:PUBLISH
X-MS-OLK-FORCEINSPECTOROPEN:TRUE
BEGIN:VEVENT
CLASS:PUBLIC
CREATED:20260419T185439Z
DESCRIPTION:VER VIDEO \n \nLa Industria 4.0 abre nuevos horizontes en prácticamente todas las áreas del conocimiento, tanto científico como aplicado. En el caso de las ciencias de materiales, las diferentes protecciones que se desarrollan para las maquinarias mineras buscan disminuir sus costos operacionales (OPEX), mediante el aumento de su vida de trabajo.\n \nA través de Big Data e Inteligencia artificial se puede maximizar sus funciones.\n \nEn ese sentido, este webinar hará un breve recorrido por esos avances y también se centrará en un método denominado Tuffstudds, que se ha aplicado en diferentes equipos mineros como chutes, palas hidráulicas, entre otros, pudiendo mostrar importantes disminuciones de costos operacionales al conocer los KPI de productividad.\n \nVER VIDEO \n
DTSTART:20200903T170000
DTEND:20200903T180000
DTSTAMP:20260419T185439Z
LOCATION:Online
PRIORITY:5
SEQUENCE:0
SUMMARY;LANGUAGE=es-es:Tecnowebinars.com - :: Analítica para la optimización y protección de materiales de maquinaria pesada
TRANSP:OPAQUE
UID:e21f3df53dacfa9ca17e87730259e258 Tecnowebinars.com
X-MICROSOFT-CDO-BUSYSTATUS:BUSY
X-MICROSOFT-CDO-IMPORTANCE:1
X-MICROSOFT-DISALLOW-COUNTER:FALSE
X-MS-OLK-ALLOWEXTERNCHECK:TRUE
X-MS-OLK-AUTOFILLLOCATION:FALSE
X-MS-OLK-CONFTYPE:0
BEGIN:VALARM
TRIGGER:-PT1440M
ACTION:DISPLAY
DESCRIPTION:Reminder
END:VALARM
END:VEVENT
END:VCALENDAR
