BEGIN:VCALENDAR
PRODID:-//Microsoft Corporation//Outlook 12.0 MIMEDIR//EN
VERSION:2.0
METHOD:PUBLISH
X-MS-OLK-FORCEINSPECTOROPEN:TRUE
BEGIN:VEVENT
CLASS:PUBLIC
CREATED:20260419T161219Z
DESCRIPTION:Conferencia Online de 3 días, en inglés, organizada por la asociación Process Excellence Network. Participan varios clientes de banca, seguros y alimentación explicando sus proyectos de automatización y BPM en tiempos complicados como los actuales.\n
DTSTART:20201001T100000
DTEND:20201001T150000
DTSTAMP:20260419T161219Z
LOCATION:Online
PRIORITY:5
SEQUENCE:0
SUMMARY;LANGUAGE=es-es:Tecnowebinars.com - :: OPEX EUROPE 2020. Conferencia online. Día 3
TRANSP:OPAQUE
UID:eb489b5177c61eb3ba554f7bc6a7d773 Tecnowebinars.com
X-MICROSOFT-CDO-BUSYSTATUS:BUSY
X-MICROSOFT-CDO-IMPORTANCE:1
X-MICROSOFT-DISALLOW-COUNTER:FALSE
X-MS-OLK-ALLOWEXTERNCHECK:TRUE
X-MS-OLK-AUTOFILLLOCATION:FALSE
X-MS-OLK-CONFTYPE:0
BEGIN:VALARM
TRIGGER:-PT1440M
ACTION:DISPLAY
DESCRIPTION:Reminder
END:VALARM
END:VEVENT
END:VCALENDAR
