BEGIN:VCALENDAR
PRODID:-//Microsoft Corporation//Outlook 12.0 MIMEDIR//EN
VERSION:2.0
METHOD:PUBLISH
X-MS-OLK-FORCEINSPECTOROPEN:TRUE
BEGIN:VEVENT
CLASS:PUBLIC
CREATED:20260419T185414Z
DESCRIPTION:La analítica en tiempo real de grandes cantidades de transacciones y datos se convierte hoy para muchos sectores en algo crítico.\nEs el caso del sector financiero que se enfrenta a una alta frecuencia de transacciones por día. La falta de tecnologías que permitan el análisis efectivo en tiempo real les impide predecir, monitorear, detectar o prevenir anomalías.\nEn esta demostración exploraremos la arquitectura de Tibco para hacer este tipo de análisis utilizando algoritmos de ciencia de datos y modelos de aprendizaje automático para identificar transacciones anómalas en tiempo real. \n \nAlgunos de los asuntos que trataremos:\n \n- Detección de fraudes, prevención del lavado de dinero y analítica predictiva en el Sector bancario\n- Aplique el software TIBCO Spotfire y TIBCO Streaming para detectar diversas anomalías en su negocio\n- Optimize la gestión del riesgo a través de un modelo inmersivo, inteligente y predictivo de toma de decisiones.\n
DTSTART:20200819T190000
DTEND:20200819T200000
DTSTAMP:20260419T185414Z
LOCATION:Online
PRIORITY:5
SEQUENCE:0
SUMMARY;LANGUAGE=es-es:Tecnowebinars.com - :: Detección de fraude y anomalías en tiempo real con Tibco Streaming y Spotfire. Taller Práctico.
TRANSP:OPAQUE
UID:20d86326904f757df7875a47d0eade1d Tecnowebinars.com
X-MICROSOFT-CDO-BUSYSTATUS:BUSY
X-MICROSOFT-CDO-IMPORTANCE:1
X-MICROSOFT-DISALLOW-COUNTER:FALSE
X-MS-OLK-ALLOWEXTERNCHECK:TRUE
X-MS-OLK-AUTOFILLLOCATION:FALSE
X-MS-OLK-CONFTYPE:0
BEGIN:VALARM
TRIGGER:-PT1440M
ACTION:DISPLAY
DESCRIPTION:Reminder
END:VALARM
END:VEVENT
END:VCALENDAR
