BEGIN:VCALENDAR
PRODID:-//Microsoft Corporation//Outlook 12.0 MIMEDIR//EN
VERSION:2.0
METHOD:PUBLISH
X-MS-OLK-FORCEINSPECTOROPEN:TRUE
BEGIN:VEVENT
CLASS:PUBLIC
CREATED:20260419T171048Z
DESCRIPTION:VER VIDEO\nEn este seminario web, Dennis Rousseau nos explicará cinco de las razones más importantes por las que las implementaciones de software de ERP fallan repetidamente.\nTambién examinará el costo resultante de estos desastres y las lecciones que se pueden aprender de los fallos de implementación de otras organizaciones.\nVER VIDEO\n \n
DTSTART:20200924T160000
DTEND:20200924T170000
DTSTAMP:20260419T171048Z
LOCATION:Online
PRIORITY:5
SEQUENCE:0
SUMMARY;LANGUAGE=es-es:Tecnowebinars.com - :: ¿Por qué fracasa un proyecto ERP?
TRANSP:OPAQUE
UID:498f32faa57f9e7036e8e11bd1511e60 Tecnowebinars.com
X-MICROSOFT-CDO-BUSYSTATUS:BUSY
X-MICROSOFT-CDO-IMPORTANCE:1
X-MICROSOFT-DISALLOW-COUNTER:FALSE
X-MS-OLK-ALLOWEXTERNCHECK:TRUE
X-MS-OLK-AUTOFILLLOCATION:FALSE
X-MS-OLK-CONFTYPE:0
BEGIN:VALARM
TRIGGER:-PT1440M
ACTION:DISPLAY
DESCRIPTION:Reminder
END:VALARM
END:VEVENT
END:VCALENDAR
