BEGIN:VCALENDAR
PRODID:-//Microsoft Corporation//Outlook 12.0 MIMEDIR//EN
VERSION:2.0
METHOD:PUBLISH
X-MS-OLK-FORCEINSPECTOROPEN:TRUE
BEGIN:VEVENT
CLASS:PUBLIC
CREATED:20260419T184223Z
DESCRIPTION:Rajant, Velodyne and Mov.ai will discuss each of their technologies in detail and show how Rajant solves Wi-Fi coverage issues in warehouses by enabling M2M communications, Velodyne provides industry leading LIDAR to improve warehouse robotics localization and worker safety challenges, Mov.AI provides robot operating system and fleet management of any robot, in particular the TUGBOT, designed to automate the movement of industrial carts.  \nSpeakers:\nJon Barad\nVP of Business Development \nVelodyne Lidar \nJon Barad, VP of Business Development at Velodyne Lidar, where he leads efforts in engaging and developing strong partnerships with companies in emerging autonomous markets, including robotics, drones, trucking, smart cities, security, and more. \nJon holds a BS in Systems Engineering from the University of Pennsylvania and an MBA from Harvard Business School. \nChris Wall\nSales Director \nRajant Corporation \nChris Wall, with over 27 years of infrastructure experience with Anixter, CommScope and now as a Director of Sales at Rajant Corporation where he is dedicated to the North American market to help support some of Rajant’s largest customers. His experience provides unique insight into complex national and international business models, working with different markets to help refine customized programs of the evolving, technology driven, clientele.\nWall’s goal is to deliver consistent service, quality, and standardized solutions. He strives to be a unique and dependable technology partner focused on capabilities that helps his customers scale and solve wireless bandwidth delivery challenges in all markets. Whether you need support increasing bandwidth, maximizing existing capacity, improving network performance and availability, increasing energy efficiency or simplifying technology migration, Wall can help.\nChris holds a B.S. degree in industrial distribution from the University of Houston and is a veteran of the United States Marine Corps.  \nLimor Schweitzer\nFounder, CEO\nMOV.AI\nLimor is founder and CTO of MOV.AI, a software company developing artificial Intelligence framework for collaborative robot fleets. Before MOV.AI limor founded RoboSavvy, a UK/Portugal company that specializes in e-commerce sales of robotic equipment to the European research market. RoboSavvy’s Labs builds custom mobile and humanoid robots including the world's first "twerking" humanoid robot and TUGBOT an industrial robot that replaces humans in cart operations. Previously Limor founded Xpert – the first internet technology integration company in Israel and XaCCT, a silicon valley company that developed the first telecom billing mediation software for the Internet.\n
DTSTART:20200819T200000
DTEND:20200819T210000
DTSTAMP:20260419T184223Z
LOCATION:Online
PRIORITY:5
SEQUENCE:0
SUMMARY;LANGUAGE=es-es:Tecnowebinars.com - :: Leverage AI and the Latest Technology Innovations to Improve Warehouse Efficiency and Safety
TRANSP:OPAQUE
UID:8038c9e49de11a09ca7e2798e51dded2 Tecnowebinars.com
X-MICROSOFT-CDO-BUSYSTATUS:BUSY
X-MICROSOFT-CDO-IMPORTANCE:1
X-MICROSOFT-DISALLOW-COUNTER:FALSE
X-MS-OLK-ALLOWEXTERNCHECK:TRUE
X-MS-OLK-AUTOFILLLOCATION:FALSE
X-MS-OLK-CONFTYPE:0
BEGIN:VALARM
TRIGGER:-PT1440M
ACTION:DISPLAY
DESCRIPTION:Reminder
END:VALARM
END:VEVENT
END:VCALENDAR
