BEGIN:VCALENDAR
PRODID:-//Microsoft Corporation//Outlook 12.0 MIMEDIR//EN
VERSION:2.0
METHOD:PUBLISH
X-MS-OLK-FORCEINSPECTOROPEN:TRUE
BEGIN:VEVENT
CLASS:PUBLIC
CREATED:20260419T185438Z
DESCRIPTION: Join speakers from Ryder System, Domino's and T-Mobile who will discuss:\n• Deliver the right product at the right time by utilizing a connected network of multiple players (shippers, receivers, carriers etc) that allows you to proactively mitigate risk and disruptions in real time  \n• Break down disparate silos and systems to bring data into one place that improves the on-time performance in your supply chain which delivers a superior customer experience\n• Have a full picture of your entire network to identify areas where you can more efficiently allocate labour and resources to increase productivity and cost savings across your network\nThis webinar is part of the Reuters Events Supply Chain Virtual Summit series. Two days of exclusive strategic supply chain insights - through registration to this webinar you gain access to the summit of your region (the free basic pass). We hope you enjoy these exclusive insights!\n
DTSTART:20200813T160000
DTEND:20200813T170000
DTSTAMP:20260419T185438Z
LOCATION:Online
PRIORITY:5
SEQUENCE:0
SUMMARY;LANGUAGE=es-es:Tecnowebinars.com - :: Supply Chain Visibility: Breaking Down Silos to Unleash the True Power of the Supply Chain
TRANSP:OPAQUE
UID:97cf940c8776503652f4fa625a608a0e Tecnowebinars.com
X-MICROSOFT-CDO-BUSYSTATUS:BUSY
X-MICROSOFT-CDO-IMPORTANCE:1
X-MICROSOFT-DISALLOW-COUNTER:FALSE
X-MS-OLK-ALLOWEXTERNCHECK:TRUE
X-MS-OLK-AUTOFILLLOCATION:FALSE
X-MS-OLK-CONFTYPE:0
BEGIN:VALARM
TRIGGER:-PT1440M
ACTION:DISPLAY
DESCRIPTION:Reminder
END:VALARM
END:VEVENT
END:VCALENDAR
