BEGIN:VCALENDAR
PRODID:-//Microsoft Corporation//Outlook 12.0 MIMEDIR//EN
VERSION:2.0
METHOD:PUBLISH
X-MS-OLK-FORCEINSPECTOROPEN:TRUE
BEGIN:VEVENT
CLASS:PUBLIC
CREATED:20260419T185413Z
DESCRIPTION: Successful expansion of business activities requires accurate planning of innovations and assets investments, combined with a detailed assessment of expected costs, risk and opportunities. \nWithout access to this critical data, your success will be severely limited and dependent on luck and guesswork. Specifically, a lack of insight into budget consumptions and insufficient visibility into the performance of running projects can cripple or slow down your portfolio decision process. When looking to survive in today’s competitive environment, your planning process needs to be top-notch and data-driven. But where should you start? \nJoin us for this webinar to hear how chemical product manufacturer Huntsman streamlined its investment planning process for new asset construction and maintenance projects with SAP Enterprise Portfolio and Project Management.\nSpeaker\nRenato Zadro, Chief Solution Expert, LoB Products and Projects, SAP\nRenato is responsible for the definition, strategy and roll-out of SAP's Enterprise Portfolio and Project Management (EPPM) solution. He works with SAP's development teams, consulting, and field organizations to ensure market readiness of the solution and supports pre-sales and account teams in strategic customer meetings.\nRick Paull, Project Portfolio Manager, Indorama (previously with Huntsman)\nAs a chemical engineer by degree, Rick Paull has worked globally for Huntsman for almost 32 years in many areas of manufacturing including Technical Services, Operations, Supply Chain, Six Sigma, Licensing, Project and Portfolio Management. He was also project manager for various small and large scale SAP implementations over the years. His efforts developing and managing the capital portfolio and systems since 2013 for Huntsman provided the unique experience and expertise to help develop the scope and lead the implementation for a global Huntsman SAP PPM system.  Rick worked for Huntsman’s Performance Products division until January 2020 when one of their business areas within PP was sold to Indorama.\n
DTSTART:20200818T170000
DTEND:20200818T180000
DTSTAMP:20260419T185413Z
LOCATION:Online
PRIORITY:5
SEQUENCE:0
SUMMARY;LANGUAGE=es-es:Tecnowebinars.com - :: Strategic Planning of Capital Projects - Drive New Business by Investing in the Right Projects
TRANSP:OPAQUE
UID:7df5fda0a1efe7270990950c6ab0ad1d Tecnowebinars.com
X-MICROSOFT-CDO-BUSYSTATUS:BUSY
X-MICROSOFT-CDO-IMPORTANCE:1
X-MICROSOFT-DISALLOW-COUNTER:FALSE
X-MS-OLK-ALLOWEXTERNCHECK:TRUE
X-MS-OLK-AUTOFILLLOCATION:FALSE
X-MS-OLK-CONFTYPE:0
BEGIN:VALARM
TRIGGER:-PT1440M
ACTION:DISPLAY
DESCRIPTION:Reminder
END:VALARM
END:VEVENT
END:VCALENDAR
