BEGIN:VCALENDAR
PRODID:-//Microsoft Corporation//Outlook 12.0 MIMEDIR//EN
VERSION:2.0
METHOD:PUBLISH
X-MS-OLK-FORCEINSPECTOROPEN:TRUE
BEGIN:VEVENT
CLASS:PUBLIC
CREATED:20260419T183246Z
DESCRIPTION:Customers are demanding more from manufacturers, in the form of increased expectations of product functionality, better customer experience, and highly personalized products. Siloed processes and technology stand in the way of delivering this harmonized customer experience, hampering revenue growth and negatively impacting profits. On the other hand, greater collaboration between sales and engineering allows manufacturers to increase margins, win more deals, and improve engineering efficiency.\nThis webinar will explain how a digital strategy focused on platform consolidation makes company-wide collaboration a reality, helping manufacturers build the products and integrated experiences their customers expect. We will also review how platform consolidation makes companies more agile and better prepared for future events - both known and unknown.    \nSales and engineering alignment leads to greater resource efficiency\nConsolidating all needed information into one platform creates a single source of product truth\nAutomated, real-time data exchange benefits sales, engineering, and customers\nSpeakers\nDario Ambrosini\nChief Marketing Officer\nPropel PLM\nDario Ambrosini is a senior marketing and operations executive with over ten years experience with venture-backed SaaS providers. He is currently the Chief Marketing Officer at Propel, the only product success platform built on Salesforce, where he works with manufacturers across multiple industries that are embracing cloud solutions to build better products. Prior to Propel, Dario held roles in enterprise and small business marketing at Manta, Switchfly, Yahoo! and American Express.\nKishore Subramanian\nVP of Engineering\nPropel PLM\nKishore Subramanian is the VP of Engineering at Propel, where he is responsible for leading the engineering team. Kishore has over 20 years of experience in software development, including 10+ years in enterprise software. He joined Propel from Google where he worked on a Java/Kotlin library for the Google Assistant and led key areas for the Files Go Android App and Google Web Designer. Kishore's previous experience includes senior engineering roles at Motorola Mobility, JackBe and Agile Software.\n
DTSTART:20200805T180000
DTEND:20200805T193000
DTSTAMP:20260419T183246Z
LOCATION:Online
PRIORITY:5
SEQUENCE:0
SUMMARY;LANGUAGE=es-es:Tecnowebinars.com - :: Delivering Superior Customer Experiences with Linked Solutions
TRANSP:OPAQUE
UID:e7b9e80443b0eb1e4e6ed6d24d4bf327 Tecnowebinars.com
X-MICROSOFT-CDO-BUSYSTATUS:BUSY
X-MICROSOFT-CDO-IMPORTANCE:1
X-MICROSOFT-DISALLOW-COUNTER:FALSE
X-MS-OLK-ALLOWEXTERNCHECK:TRUE
X-MS-OLK-AUTOFILLLOCATION:FALSE
X-MS-OLK-CONFTYPE:0
BEGIN:VALARM
TRIGGER:-PT1440M
ACTION:DISPLAY
DESCRIPTION:Reminder
END:VALARM
END:VEVENT
END:VCALENDAR
