BEGIN:VCALENDAR
PRODID:-//Microsoft Corporation//Outlook 12.0 MIMEDIR//EN
VERSION:2.0
METHOD:PUBLISH
X-MS-OLK-FORCEINSPECTOROPEN:TRUE
BEGIN:VEVENT
CLASS:PUBLIC
CREATED:20260419T185438Z
DESCRIPTION:Your automated manufacturing process is uniquely integrated and optimized for each sub-system. So why rely on a metrology sub-system that has not been equally customized for your process? When applied correctly, a customized metrology and inspection system can help your automated manufacturing process achieve more.  \nTo effectively develop custom metrology and inspection solutions, it’s necessary to have a large pool of standard products to choose from, deep knowledge of the metrology systems, innovative ideas, the capability to execute that vision, and a global support system.  \nJoin us to learn how leading manufacturers are customizing their metrology and inspection systems to improve efficiency and quality of their automated manufacturing processes.  Topics of discussion will include:\nCustomized reference frames (e.g CMM & OMM) for safety, speed, range, and flexibility.\nCustomized sensors for accuracy, resolution, and multi-sensor integration.\nCustom turn-key metrology solutions to let you focus on what you do best.\nCustom material handling, workpiece mounting, and integration of HW and SW.\nSpeakers  \nCasey Emtman, Technical Marketing Engineer, Micro Encoder Incorporated\nCasey Emtman brings over 20 years of metrology R&D and project management experience through which he has built broad knowledge of non-contact metrology technologies.  Casey is a serial inventor holding nearly 20 patents and earned a Bachelor’s of Science in Mechanical Engineering degree from Washington State University.   Casey’s current focus is developing custom metrology solutions for leading manufactures across North America and Europe.  Additionally, Casey is the Director of Operations for Mitutoyo Optics Manufacturing America Corporation.\nKen Myers, Solutions Manager, Sales-Solutions Division of Mitutoyo America Corporation\nKen Myers is the Solutions Manager at Mitutoyo America Corporation.  He has 30 years’ of experience and education in the fields of electrical/controls engineering and machine design. The last 18 of those have been at MAC, developing custom measurement solutions. Coming from the custom machine and gaging design industry, he and his team of engineers has helped countless Mitutoyo customers achieve success in their pursuit of efficient throughput of quality production processes. While capitalizing on the 85 years of experience and technology development that Mitutoyo provides, as the basis for countless custom tailored measurement solutions for their clients. \n
DTSTART:20200805T200000
DTEND:20200805T210000
DTSTAMP:20260419T185438Z
LOCATION:Online
PRIORITY:5
SEQUENCE:0
SUMMARY;LANGUAGE=es-es:Tecnowebinars.com - :: Benefits of Custom Metrology Solutions for your Automated Manufacturing Process
TRANSP:OPAQUE
UID:5ac460130283afc83e8e0de2cff9a4b3 Tecnowebinars.com
X-MICROSOFT-CDO-BUSYSTATUS:BUSY
X-MICROSOFT-CDO-IMPORTANCE:1
X-MICROSOFT-DISALLOW-COUNTER:FALSE
X-MS-OLK-ALLOWEXTERNCHECK:TRUE
X-MS-OLK-AUTOFILLLOCATION:FALSE
X-MS-OLK-CONFTYPE:0
BEGIN:VALARM
TRIGGER:-PT1440M
ACTION:DISPLAY
DESCRIPTION:Reminder
END:VALARM
END:VEVENT
END:VCALENDAR
