BEGIN:VCALENDAR
PRODID:-//Microsoft Corporation//Outlook 12.0 MIMEDIR//EN
VERSION:2.0
METHOD:PUBLISH
X-MS-OLK-FORCEINSPECTOROPEN:TRUE
BEGIN:VEVENT
CLASS:PUBLIC
CREATED:20260419T201032Z
DESCRIPTION:The days of spreadsheets in the demand process are in the past - there is too much data to analyze, too many programs to track, too many BOMs, and part numbers to pull into a forecast.\nThe number one lesson learned in survey results post-COVID-19 pandemic is that demand and scenario planning is the biggest challenge the industry is currently facing. Additionally, much of the automotive industry is transforming on a macro scale, as technology moves from Internal Combustion Engines (ICE) to Autonomous Continuous Electrified Shared (ACES).\nHow do you effectively plan for the scenarios that lie ahead, while also making sure all your plants have the same forecasts and visibility into real time updates?\nJoin us for an online informative session that will walk you through:\n- An overview of how the industry is evolving, new business models, and scenarios you should be considering\n- Challenges to consider as the industry recovers from COVID-19 impacts\n- Examples of how to mitigate risk, model possible scenarios and make better decisions\nLeading experts suggest if you are not prepared today, your company could be extinct in the not-so-distant future, as the current disruptive environment in the automotive industry moves forward. Are you ready?\n
DTSTART:20200723T190000
DTEND:20200723T200000
DTSTAMP:20260419T201032Z
LOCATION:Online
PRIORITY:5
SEQUENCE:0
SUMMARY;LANGUAGE=es-es:Tecnowebinars.com - :: Disrupción en la industria de automoción: ¿y ahora qué?
TRANSP:OPAQUE
UID:a1807e3765bee453f81dac7617ae12f0 Tecnowebinars.com
X-MICROSOFT-CDO-BUSYSTATUS:BUSY
X-MICROSOFT-CDO-IMPORTANCE:1
X-MICROSOFT-DISALLOW-COUNTER:FALSE
X-MS-OLK-ALLOWEXTERNCHECK:TRUE
X-MS-OLK-AUTOFILLLOCATION:FALSE
X-MS-OLK-CONFTYPE:0
BEGIN:VALARM
TRIGGER:-PT1440M
ACTION:DISPLAY
DESCRIPTION:Reminder
END:VALARM
END:VEVENT
END:VCALENDAR
