BEGIN:VCALENDAR
PRODID:-//Microsoft Corporation//Outlook 12.0 MIMEDIR//EN
VERSION:2.0
METHOD:PUBLISH
X-MS-OLK-FORCEINSPECTOROPEN:TRUE
BEGIN:VEVENT
CLASS:PUBLIC
CREATED:20260419T184330Z
DESCRIPTION:TIBCO Jaspersoft permite la realización de informes de datos masivos ( reportes - cuadros de mando) y embeber el contenido generado adaptándose a cualquier arquitectura con soporte multi-tenant.\nLos informes pueden presentarse: \n• Intuitivos: simples de entender \n• Convenientes: accesibles en el contexto correcto \n• Personalizados: responden sus preguntas específicas\n• Procesables: permiten tomar decisiones\n
DTSTART:20200728T170000
DTEND:20200728T180000
DTSTAMP:20260419T184330Z
LOCATION:Online
PRIORITY:5
SEQUENCE:0
SUMMARY;LANGUAGE=es-es:Tecnowebinars.com - :: Informes y Cuadros de mando de datos masivos con Tibco Jaspersoft
TRANSP:OPAQUE
UID:61f5e7798d1d505bdc6d3eb55f9de193 Tecnowebinars.com
X-MICROSOFT-CDO-BUSYSTATUS:BUSY
X-MICROSOFT-CDO-IMPORTANCE:1
X-MICROSOFT-DISALLOW-COUNTER:FALSE
X-MS-OLK-ALLOWEXTERNCHECK:TRUE
X-MS-OLK-AUTOFILLLOCATION:FALSE
X-MS-OLK-CONFTYPE:0
BEGIN:VALARM
TRIGGER:-PT1440M
ACTION:DISPLAY
DESCRIPTION:Reminder
END:VALARM
END:VEVENT
END:VCALENDAR
