BEGIN:VCALENDAR
PRODID:-//Microsoft Corporation//Outlook 12.0 MIMEDIR//EN
VERSION:2.0
METHOD:PUBLISH
X-MS-OLK-FORCEINSPECTOROPEN:TRUE
BEGIN:VEVENT
CLASS:PUBLIC
CREATED:20260419T183158Z
DESCRIPTION:Descubra el poder del Dónde: conectar los datos de negocio con su ubicación, brinda insights únicos y valiosos para responder sus preguntas de negocio (qué, cómo, cuándo, por qué, qué pasará y qué debo hacer) e innovar en la experiencia de usuario.\nAbordaremos los siguientes temas:\n \n- Principales casos de uso.\n- Capacidades críticas de soluciones de Geoanalítica.\n- Modelos de analítica predictiva aplicados a Geoanalítica.\n
DTSTART:20200729T170000
DTEND:20200729T180000
DTSTAMP:20260419T183158Z
LOCATION:Online
PRIORITY:5
SEQUENCE:0
SUMMARY;LANGUAGE=es-es:Tecnowebinars.com - :: Geoanalítica: el Poder del Dónde
TRANSP:OPAQUE
UID:fdfe03461c5ebca07eff798d47983867 Tecnowebinars.com
X-MICROSOFT-CDO-BUSYSTATUS:BUSY
X-MICROSOFT-CDO-IMPORTANCE:1
X-MICROSOFT-DISALLOW-COUNTER:FALSE
X-MS-OLK-ALLOWEXTERNCHECK:TRUE
X-MS-OLK-AUTOFILLLOCATION:FALSE
X-MS-OLK-CONFTYPE:0
BEGIN:VALARM
TRIGGER:-PT1440M
ACTION:DISPLAY
DESCRIPTION:Reminder
END:VALARM
END:VEVENT
END:VCALENDAR
