BEGIN:VCALENDAR
PRODID:-//Microsoft Corporation//Outlook 12.0 MIMEDIR//EN
VERSION:2.0
METHOD:PUBLISH
X-MS-OLK-FORCEINSPECTOROPEN:TRUE
BEGIN:VEVENT
CLASS:PUBLIC
CREATED:20260419T200938Z
DESCRIPTION:ZTE y Omdia explican en este webinar diversos casos de uso de Operadoras Chinas que han estado desplegando la tecnología 5G SA.\nChina Mobile, China Unicom y China Telecom han confirmado recientemente el inminente lanzamiento del 5G SA. ZTE es uno de los grandes protagonistas en la construcción de estas redes SA y en la actualización de la red 4G con su solución SA de extremo a extremo. Entre las novedades que ofrece, destaca el Network Slicing, la computación perimetral de acceso múltiple y el Time-Sensitive Network.\nEn este seminario web también se mostrarán diversos casos de uso que China ha estado desplegando con el 5G SA.\nLe invitamos a registrarse para escuchar más perspectivas compartidas por expertos y analistas y para participar en el debate posterior a las presentaciones.\nTEMAS CLAVE A TRATAR:\n_La importancia de los operadores móviles chinos en el contexto mundial.\n_El alto interés de la industria por el 5G SA.\n_Beneficios de la 5G SA en la práctica: ¿Para qué nos va a servir?\n_La 5G SA en China: del plan a la ejecución.\n
DTSTART:20200715T110000
DTEND:20200715T120000
DTSTAMP:20260419T200938Z
LOCATION:Online
PRIORITY:5
SEQUENCE:0
SUMMARY;LANGUAGE=es-es:Tecnowebinars.com - :: Lecciones del 5G SA en China según ZTE y Omdia
TRANSP:OPAQUE
UID:53f7978a7446eafd533ce394af88a9a9 Tecnowebinars.com
X-MICROSOFT-CDO-BUSYSTATUS:BUSY
X-MICROSOFT-CDO-IMPORTANCE:1
X-MICROSOFT-DISALLOW-COUNTER:FALSE
X-MS-OLK-ALLOWEXTERNCHECK:TRUE
X-MS-OLK-AUTOFILLLOCATION:FALSE
X-MS-OLK-CONFTYPE:0
BEGIN:VALARM
TRIGGER:-PT1440M
ACTION:DISPLAY
DESCRIPTION:Reminder
END:VALARM
END:VEVENT
END:VCALENDAR
