BEGIN:VCALENDAR
PRODID:-//Microsoft Corporation//Outlook 12.0 MIMEDIR//EN
VERSION:2.0
METHOD:PUBLISH
X-MS-OLK-FORCEINSPECTOROPEN:TRUE
BEGIN:VEVENT
CLASS:PUBLIC
CREATED:20260419T183204Z
DESCRIPTION:Join Blue Prism, AXON Ivy, and our mutual partner DiRWA on this webinar to discover how seamlessly the Axon.ivy Digital Business Platform integrates with Blue Prism via a "plug and play" connector available on the Blue Prism Digital Exchange.\nDuring a brief live demonstration, you will see how to build an end-to-end solution for a sample use case - processing invoices automated by Blue Prism, with exception-handling workflow being automated by the Axon.ivy Digital Business Platform. \n
DTSTART:20200811T100000
DTEND:20200811T110000
DTSTAMP:20260419T183204Z
LOCATION:Online
PRIORITY:5
SEQUENCE:0
SUMMARY;LANGUAGE=es-es:Tecnowebinars.com - :: Enabling collaboration between human and digital workers
TRANSP:OPAQUE
UID:d45ba04567269c95c7e4c6a401355c34 Tecnowebinars.com
X-MICROSOFT-CDO-BUSYSTATUS:BUSY
X-MICROSOFT-CDO-IMPORTANCE:1
X-MICROSOFT-DISALLOW-COUNTER:FALSE
X-MS-OLK-ALLOWEXTERNCHECK:TRUE
X-MS-OLK-AUTOFILLLOCATION:FALSE
X-MS-OLK-CONFTYPE:0
BEGIN:VALARM
TRIGGER:-PT1440M
ACTION:DISPLAY
DESCRIPTION:Reminder
END:VALARM
END:VEVENT
END:VCALENDAR
