BEGIN:VCALENDAR
PRODID:-//Microsoft Corporation//Outlook 12.0 MIMEDIR//EN
VERSION:2.0
METHOD:PUBLISH
X-MS-OLK-FORCEINSPECTOROPEN:TRUE
BEGIN:VEVENT
CLASS:PUBLIC
CREATED:20260419T183205Z
DESCRIPTION:AI is transforming every industry in multiple ways. The insurance industry is no different. Current world events have accelerated the need to provide innovation that is quick, scalable, and delivers results.\nWhether it's for life, home, or any other type of insurance, Conversational AI optimizes experiences for both customers and employees.\n \nWe invite you to join Peter Seltenright, Peter Joles and Joaquim Bargallo from Artificial Solutions as they demonstrate current case studies from the insurance industry and reveal innovative ways to apply Intelligent Virtual Assistants and Digital Employees beyond quotes and claims.\n
DTSTART:20200728T170000
DTEND:20200728T180000
DTSTAMP:20260419T183205Z
LOCATION:Online
PRIORITY:5
SEQUENCE:0
SUMMARY;LANGUAGE=es-es:Tecnowebinars.com - :: Agentes virtuales (IA) en Seguros. Casos prácticos
TRANSP:OPAQUE
UID:f30e41a6d78527ab026a7a46b8ae1349 Tecnowebinars.com
X-MICROSOFT-CDO-BUSYSTATUS:BUSY
X-MICROSOFT-CDO-IMPORTANCE:1
X-MICROSOFT-DISALLOW-COUNTER:FALSE
X-MS-OLK-ALLOWEXTERNCHECK:TRUE
X-MS-OLK-AUTOFILLLOCATION:FALSE
X-MS-OLK-CONFTYPE:0
BEGIN:VALARM
TRIGGER:-PT1440M
ACTION:DISPLAY
DESCRIPTION:Reminder
END:VALARM
END:VEVENT
END:VCALENDAR
