BEGIN:VCALENDAR
PRODID:-//Microsoft Corporation//Outlook 12.0 MIMEDIR//EN
VERSION:2.0
METHOD:PUBLISH
X-MS-OLK-FORCEINSPECTOROPEN:TRUE
BEGIN:VEVENT
CLASS:PUBLIC
CREATED:20260419T195928Z
DESCRIPTION:Continuamos con nuestra serie TechTalks Vitaminas de innovación. Te invitamos a participar en nuestro próximo webinar, que se celebrará en directo el próximo miércoles 15 de junio de 10:00 a 10:45h.\n \nEn esta ocasión nuestro experto será César Beltrán, SAP Business Development Manager de Red Hat, que nos contará cómo desarrollar aplicaciones en SAP utilizando OpenShift® y cómo desplegarlas en cualquier infraestructura: bare metal, on premise, nube privada, pública o híbrida.\n \nEn este encuentro en directo profundizaremos en cómo:\n \n- Red Hat te puede ayudar en los proyectos transformacionales\nen torno a SAP\n- Desarrollar con SAP en un formato agile en contenedores con\nRed Hat® OpenShift®.\n \n¡Te esperamos en este interesante webinar orientado a negocio!\n
DTSTART:20200715T100000
DTEND:20200715T104500
DTSTAMP:20260419T195928Z
LOCATION:Online
PRIORITY:5
SEQUENCE:0
SUMMARY;LANGUAGE=es-es:Tecnowebinars.com - :: Red Hat Webinar: OpenShift para desarrollar apps en SAP
TRANSP:OPAQUE
UID:096384d1145da5214876613926032f2e Tecnowebinars.com
X-MICROSOFT-CDO-BUSYSTATUS:BUSY
X-MICROSOFT-CDO-IMPORTANCE:1
X-MICROSOFT-DISALLOW-COUNTER:FALSE
X-MS-OLK-ALLOWEXTERNCHECK:TRUE
X-MS-OLK-AUTOFILLLOCATION:FALSE
X-MS-OLK-CONFTYPE:0
BEGIN:VALARM
TRIGGER:-PT1440M
ACTION:DISPLAY
DESCRIPTION:Reminder
END:VALARM
END:VEVENT
END:VCALENDAR
