BEGIN:VCALENDAR
PRODID:-//Microsoft Corporation//Outlook 12.0 MIMEDIR//EN
VERSION:2.0
METHOD:PUBLISH
X-MS-OLK-FORCEINSPECTOROPEN:TRUE
BEGIN:VEVENT
CLASS:PUBLIC
CREATED:20260419T201108Z
DESCRIPTION:You are invited to attend next week's Webinar: Digital Aviation Manuals and Document Management Solution Demo Webinar [Inc: DocuNet Mobile App Viewer for Pilots and Engineers - Online / Offline; Covid-19 Challenges; Edit, Publish and Distribute Manuals and Docs; Create and Publish Forms; more...]. Host: Vistair, Thursday, 16th July 2020.\n \nRegister to attend this Webinar and join the aviation technology specialists at Vistair as they demo their end-to-end digital document management solution, DocuNet, as used by over 40 airlines worldwide. The webinar begins by addressing the challenges of Covid-19. As you will see, adopting digital, agile and flexible processes is key to meeting these challenges and, using demos of DocuNet, Vistair experts will show how a digital approach to manage (edit, publish, distribute) all key flight ops and engineering docs (manuals, docs, forms, regulations, in any format – PDF, MS Word, XML, SGML, etc.) in a single platform, is critical to drive both time and cost efficiencies, as well as improving regulatory compliance and safety. You will then see how pilots, cabin crew and engineers can easily access, up-to-date role-specific content and manuals using the Mobile App Viewer; and how to create and publish digital forms.\n \nThe webinar is divided into three key parts:\n \n- Vistair Overview and the Operational Challenges of Airlines today:\nThe Webinar opens with an overview of DocuNet. The Vistair experts will highlight challenges faced by airlines in the current Covid-19 pandemic and how the right document management solution can improve control, resource management, overall efficiency, safety and compliance.\n \n- Demo 1 - DocuNet Online / Offline Viewer, including Mobile App:\nNext see the DocuNet viewer, which enables pilots, cabin crew and engineers to access up-to-date docs via the web and mobile devices. Key features you will see include the manual library and advanced functionality such as Read & Sign, annotations, search, and more.\n \n- Demo 2 - DocuNet Forms:\nFinally, you will see a demo of the intuitive, easily integrated, electronic smart forms platform within DocuNet and its extensive functionality that allows airline personnel to create and publish forms almost instantly for use across the airline, with no speciﬁc technical experience required.\n
DTSTART:20200716T163000
DTEND:20200716T173000
DTSTAMP:20260419T201108Z
LOCATION:Online
PRIORITY:5
SEQUENCE:0
SUMMARY;LANGUAGE=es-es:Tecnowebinars.com - :: Digital Aviation Manuals and Document Management Solution Demo Webinar Sesión 2
TRANSP:OPAQUE
UID:e4247d302c4dad2e5ab5fa3a7c91e048 Tecnowebinars.com
X-MICROSOFT-CDO-BUSYSTATUS:BUSY
X-MICROSOFT-CDO-IMPORTANCE:1
X-MICROSOFT-DISALLOW-COUNTER:FALSE
X-MS-OLK-ALLOWEXTERNCHECK:TRUE
X-MS-OLK-AUTOFILLLOCATION:FALSE
X-MS-OLK-CONFTYPE:0
BEGIN:VALARM
TRIGGER:-PT1440M
ACTION:DISPLAY
DESCRIPTION:Reminder
END:VALARM
END:VEVENT
END:VCALENDAR
