BEGIN:VCALENDAR
PRODID:-//Microsoft Corporation//Outlook 12.0 MIMEDIR//EN
VERSION:2.0
METHOD:PUBLISH
X-MS-OLK-FORCEINSPECTOROPEN:TRUE
BEGIN:VEVENT
CLASS:PUBLIC
CREATED:20260419T185413Z
DESCRIPTION:Speech analytics tools have proved invaluable for analyzing the vast amounts of unstructured information pouring into a contact center every day, as they can evaluate everything from call compliance to sentiment analysis, often in real time.\n \nAll of this information is essential for improving the customer experience and achieving better business outcomes.\n \nTune in to this webcast and learn from our panel of experts from NICE Nexidia, Verint, and Calabrio why you should invest in AI-based speech analytics and what you can expect from these remarkable contact center technologies.\n \nOn this webcast you will learn:\n \n                   - How a real customer saved millions of dollars and improved CSAT using AI behavioral analytics\n                   - How real companies used analytics to improve and advance their contact center operations\n                   - How to take your AI sentiment analytics to the next level\n                   - How to use predictive and sentiment analysis to uncover insights\n                   - How speech analytics can radically improve your real-time agent guidance\n                   - How companies leverage speech analytics to navigate and thrive through crisis and recovery\n
DTSTART:20200729T200000
DTEND:20200729T210000
DTSTAMP:20260419T185413Z
LOCATION:Online
PRIORITY:5
SEQUENCE:0
SUMMARY;LANGUAGE=es-es:Tecnowebinars.com - :: Analítica de Voz en el Contact Center con Inteligencia Artificial
TRANSP:OPAQUE
UID:76ad83ce944de2bdd68996d71d727ba2 Tecnowebinars.com
X-MICROSOFT-CDO-BUSYSTATUS:BUSY
X-MICROSOFT-CDO-IMPORTANCE:1
X-MICROSOFT-DISALLOW-COUNTER:FALSE
X-MS-OLK-ALLOWEXTERNCHECK:TRUE
X-MS-OLK-AUTOFILLLOCATION:FALSE
X-MS-OLK-CONFTYPE:0
BEGIN:VALARM
TRIGGER:-PT1440M
ACTION:DISPLAY
DESCRIPTION:Reminder
END:VALARM
END:VEVENT
END:VCALENDAR
