BEGIN:VCALENDAR
PRODID:-//Microsoft Corporation//Outlook 12.0 MIMEDIR//EN
VERSION:2.0
METHOD:PUBLISH
X-MS-OLK-FORCEINSPECTOROPEN:TRUE
BEGIN:VEVENT
CLASS:PUBLIC
CREATED:20260419T200904Z
DESCRIPTION:Covid-19 has upended the global working order. For Banking, Financial Services and Insurance (BFSI) in particular, there is a more urgent need than ever before to digitize paper-heavy process, and automate manual, repetitive tasks at a rapid pace to help combat the economic fallout from an unprecedented global shutdown. \n \nAs a follow up to our industry leading Intelligent Automation for BFSI event this past February in NYC, we present the first virtual edition of BFSI, giving you access to panel discussions, use cases and virtual roundtables from BFSI thought leaders as well as leading service providers on topics including but not limited to:\n \n- The New Normal for BFSI: Covid-19, Business Continuity and Risk Reduction\n- Delivering the Best End-User Experience and Business Value from Virtual Assistants in a BFSI Environment\n- Focusing Automation on Small Deployments and Quick Wins for Immediate Short-Term Gains\n- Layering AI, ML and RPA for Intelligent Document Capture\n- Automating Auditing and SOX Compliance\n \n
DTSTART:20200715T150000
DTEND:20200715T230000
DTSTAMP:20260419T200904Z
LOCATION:Online
PRIORITY:5
SEQUENCE:0
SUMMARY;LANGUAGE=es-es:Tecnowebinars.com - :: Automatización inteligente para Banca, Servicios Financieros y Seguros (Conferencia Online) Día 2
TRANSP:OPAQUE
UID:3076b004fde87a72866c07cfb9b189f1 Tecnowebinars.com
X-MICROSOFT-CDO-BUSYSTATUS:BUSY
X-MICROSOFT-CDO-IMPORTANCE:1
X-MICROSOFT-DISALLOW-COUNTER:FALSE
X-MS-OLK-ALLOWEXTERNCHECK:TRUE
X-MS-OLK-AUTOFILLLOCATION:FALSE
X-MS-OLK-CONFTYPE:0
BEGIN:VALARM
TRIGGER:-PT1440M
ACTION:DISPLAY
DESCRIPTION:Reminder
END:VALARM
END:VEVENT
END:VCALENDAR
