BEGIN:VCALENDAR
PRODID:-//Microsoft Corporation//Outlook 12.0 MIMEDIR//EN
VERSION:2.0
METHOD:PUBLISH
X-MS-OLK-FORCEINSPECTOROPEN:TRUE
BEGIN:VEVENT
CLASS:PUBLIC
CREATED:20260419T195927Z
DESCRIPTION:As supply chains and "normal" processes are being disrupted, ALL businesses are looking for ways to pivot quickly. Showing empathy and filling unmet needs are the key characteristics that are endearing customers to organizations and establishing new brand loyalty. It's all about providing value and convenience. No wonder 55% of AIIM members plan to leverage process automation capabilities to provide for their customers in this way.\nUnfortunately, the volume, velocity, and variety of information that most organizations need to manage, store, and protect now exceed their ability even marginally to keep pace. This rising tide of information chaos and confusion imperils the process automation journeys of many organizations. To better understand these complexities and what is keeping organizations from moving forward with process automation initiatives, we have assembled an exciting lineup of speakers to share their stories.\n \nWe invite you to learn how these leading companies are maximizing their investments in Business Process Management, Robotic Process Automation, and Case Management to digitize their core processes and improve their customer-facing operations. Find out about new process tools that can be delivered with the simplicity of an app, but within a framework that allows the business to remain in control.\n \n \n \n
DTSTART:20200722T170000
DTEND:20200722T210000
DTSTAMP:20260419T195927Z
LOCATION:Online
PRIORITY:5
SEQUENCE:0
SUMMARY;LANGUAGE=es-es:Tecnowebinars.com - :: Robotic Process Automation, Real-World Use Cases
TRANSP:OPAQUE
UID:1bf8f6d692331da23a0c80f8cb5a3887 Tecnowebinars.com
X-MICROSOFT-CDO-BUSYSTATUS:BUSY
X-MICROSOFT-CDO-IMPORTANCE:1
X-MICROSOFT-DISALLOW-COUNTER:FALSE
X-MS-OLK-ALLOWEXTERNCHECK:TRUE
X-MS-OLK-AUTOFILLLOCATION:FALSE
X-MS-OLK-CONFTYPE:0
BEGIN:VALARM
TRIGGER:-PT1440M
ACTION:DISPLAY
DESCRIPTION:Reminder
END:VALARM
END:VEVENT
END:VCALENDAR
