BEGIN:VCALENDAR
PRODID:-//Microsoft Corporation//Outlook 12.0 MIMEDIR//EN
VERSION:2.0
METHOD:PUBLISH
X-MS-OLK-FORCEINSPECTOROPEN:TRUE
BEGIN:VEVENT
CLASS:PUBLIC
CREATED:20260419T200807Z
DESCRIPTION:Descubre cómo las empresas se tienen que centrar en las personas y en sus necesidades para adaptarse a la nueva realidad.\n \nAPD y Smartcex te invitan a un nuevo encuentro digital en el que el Doctor Mario Alonso Puig, y Agustí Molias, CEO de Smartcex, debatirán sobre qué hacer para fomentar y agilizar los cambios a través del liderazgo en un contexto de "nueva normalidad"  y cómo fomentar una cultura de fidelización y engagement del equipo con un enfoque a resultados.\n \nPonentes:\n \n> Mario Alonso Puig, Médico, Cirujano General y del Aparato Digestivo, Profesor y Conferenciante\n> Agustí Molias, CEO de SMARTCEX\n \n
DTSTART:20200714T100000
DTEND:20200714T110000
DTSTAMP:20260419T200807Z
LOCATION:Online
PRIORITY:5
SEQUENCE:0
SUMMARY;LANGUAGE=es-es:Tecnowebinars.com - :: People-Centric, la estrategia clave para el nuevo presente
TRANSP:OPAQUE
UID:31603e27b24b39c009928e32017c4243 Tecnowebinars.com
X-MICROSOFT-CDO-BUSYSTATUS:BUSY
X-MICROSOFT-CDO-IMPORTANCE:1
X-MICROSOFT-DISALLOW-COUNTER:FALSE
X-MS-OLK-ALLOWEXTERNCHECK:TRUE
X-MS-OLK-AUTOFILLLOCATION:FALSE
X-MS-OLK-CONFTYPE:0
BEGIN:VALARM
TRIGGER:-PT1440M
ACTION:DISPLAY
DESCRIPTION:Reminder
END:VALARM
END:VEVENT
END:VCALENDAR
