BEGIN:VCALENDAR
PRODID:-//Microsoft Corporation//Outlook 12.0 MIMEDIR//EN
VERSION:2.0
METHOD:PUBLISH
X-MS-OLK-FORCEINSPECTOROPEN:TRUE
BEGIN:VEVENT
CLASS:PUBLIC
CREATED:20260419T201031Z
DESCRIPTION:El nuevo panorama económico mundial, y en España en particular, se prevé ciertamente preocupante tras la extenuante lucha contra el Covid-19.\nAnte la llegada de cambios en las inversiones de sectores estratégicos, IDS Connect analizará en su próximo webinar, desde una perspectiva general, la situación de las inversiones extranjeras, el nuevo marco legal y las expectativas puestas en Europa para dichos sectores estratégicos. \nPonentes: \n \n - Inés de Alvear. Socia de Prolaw Abogados\n - Enrique Navarro. Presidente de MQGlobaNet\n \n \n
DTSTART:20200715T100000
DTEND:20200715T110000
DTSTAMP:20260419T201031Z
LOCATION:Online
PRIORITY:5
SEQUENCE:0
SUMMARY;LANGUAGE=es-es:Tecnowebinars.com - :: Inversiones extranjeras en sectores estratégicos tras el Covid-19
TRANSP:OPAQUE
UID:e5b12126c7cbd5e4fbb168cfe0915fa4 Tecnowebinars.com
X-MICROSOFT-CDO-BUSYSTATUS:BUSY
X-MICROSOFT-CDO-IMPORTANCE:1
X-MICROSOFT-DISALLOW-COUNTER:FALSE
X-MS-OLK-ALLOWEXTERNCHECK:TRUE
X-MS-OLK-AUTOFILLLOCATION:FALSE
X-MS-OLK-CONFTYPE:0
BEGIN:VALARM
TRIGGER:-PT1440M
ACTION:DISPLAY
DESCRIPTION:Reminder
END:VALARM
END:VEVENT
END:VCALENDAR
