BEGIN:VCALENDAR
PRODID:-//Microsoft Corporation//Outlook 12.0 MIMEDIR//EN
VERSION:2.0
METHOD:PUBLISH
X-MS-OLK-FORCEINSPECTOROPEN:TRUE
BEGIN:VEVENT
CLASS:PUBLIC
CREATED:20260419T201108Z
DESCRIPTION:Tras el mayor experimento de teletrabajo de la historia, se ha demostrado que la productividad de los empleados puede aumentar gestionando los tiempos de una forma automatizada y flexible.\nLa flexibilidad horaria ha sido clave para gestionar el trabajo durante el confinamiento y ha supuesto una ventaja competitiva en las organizaciones que ya la aplicaban, un mayor control del tiempo de trabajo efectivo, la reducción del presentismo y el consiguiente aumento de la productividad.\n \nTe invitamos a este webinar gratuito impartido por nuestras expertas en gestión del tiempo.\n \n \n \n \n \n \n \n \n
DTSTART:20200714T100000
DTEND:20200714T110000
DTSTAMP:20260419T201108Z
LOCATION:Online
PRIORITY:5
SEQUENCE:0
SUMMARY;LANGUAGE=es-es:Tecnowebinars.com - :: Retos actuales: Flexibilidad, Teletrabajo y Productividad
TRANSP:OPAQUE
UID:385d5668df58c8c521cd6f7656a662a4 Tecnowebinars.com
X-MICROSOFT-CDO-BUSYSTATUS:BUSY
X-MICROSOFT-CDO-IMPORTANCE:1
X-MICROSOFT-DISALLOW-COUNTER:FALSE
X-MS-OLK-ALLOWEXTERNCHECK:TRUE
X-MS-OLK-AUTOFILLLOCATION:FALSE
X-MS-OLK-CONFTYPE:0
BEGIN:VALARM
TRIGGER:-PT1440M
ACTION:DISPLAY
DESCRIPTION:Reminder
END:VALARM
END:VEVENT
END:VCALENDAR
