BEGIN:VCALENDAR
PRODID:-//Microsoft Corporation//Outlook 12.0 MIMEDIR//EN
VERSION:2.0
METHOD:PUBLISH
X-MS-OLK-FORCEINSPECTOROPEN:TRUE
BEGIN:VEVENT
CLASS:PUBLIC
CREATED:20260419T183158Z
DESCRIPTION:Business leaders globally acknowledge that data and analytics are critical to success in the post-digital transformation world. But data and analytics are meaningless without your best asset: your people, and their ability to innovate, transform and solve.\n \nAccording to Forrester, by 2021 automation of data science tasks will enable citizen data scientists to produce a higher volume of advanced analysis than specialized data scientists. Analytic process automation amplifies human intelligence by freeing your best people from the mundane and empowering them to discover new ways to solve your biggest business challenges.\n \nJoin this webinar to hear from our guest speakers, Nick Bignell (UBS), Franky Stephenson (Anthony Nolan), Natalie Semmes (KPMG) and Alan Jacobson (Alteryx) and discover how to:\n \n- Harness analytic automation to achieve faster business outcomes \n \n- Amplify human output and enable the perpetual upskilling of people \n \n- Engage everyone with a human-centered data and analytics strategy\n \n
DTSTART:20200729T140000
DTEND:20200729T150000
DTSTAMP:20260419T183158Z
LOCATION:Online
PRIORITY:5
SEQUENCE:0
SUMMARY;LANGUAGE=es-es:Tecnowebinars.com - :: How Analytic Process Automation Amplifies Human Intelligence
TRANSP:OPAQUE
UID:da9cf79ca9d4e42f4da60498cbd5a53e Tecnowebinars.com
X-MICROSOFT-CDO-BUSYSTATUS:BUSY
X-MICROSOFT-CDO-IMPORTANCE:1
X-MICROSOFT-DISALLOW-COUNTER:FALSE
X-MS-OLK-ALLOWEXTERNCHECK:TRUE
X-MS-OLK-AUTOFILLLOCATION:FALSE
X-MS-OLK-CONFTYPE:0
BEGIN:VALARM
TRIGGER:-PT1440M
ACTION:DISPLAY
DESCRIPTION:Reminder
END:VALARM
END:VEVENT
END:VCALENDAR
