BEGIN:VCALENDAR
PRODID:-//Microsoft Corporation//Outlook 12.0 MIMEDIR//EN
VERSION:2.0
METHOD:PUBLISH
X-MS-OLK-FORCEINSPECTOROPEN:TRUE
BEGIN:VEVENT
CLASS:PUBLIC
CREATED:20260419T201031Z
DESCRIPTION:Curso de pago por 90 euros. \n \nLe informo del Curso sobre Términos Financieros Inglés/Español: Contabilidad, Mercados y Operaciones Financieras, que se impartirá el próximo 17 de julio (8:30 a 14.30) (100% bonificable), que puede seguirse en directo por internet vía webinar (video conferencia interactiva) u online en diferido a través del aula virtual.\n \nOferta especial: solo 90 euros (exento de IVA) por asistente que podrá deducir 100% en sus seguros sociales.\n \nPara comprender los términos o expresarlos, para traducir textos o escribirlos, es preciso manejar los términos financieros apropiadamente ya que se trata de una jerga profesional que utiliza sus propias expresiones, en muchas ocasiones alejadas por completo de la literalidad.\n \nEn este curso explicaremos la terminología financiera en inglés, su significado, el contexto en que se usa y los conceptos financieros que encierra, para no dudar en la interpretación de informes, textos y documentos en inglés o poder expresar correctamente términos financieros.\n
DTSTART:20200717T083000
DTEND:20200717T143000
DTSTAMP:20260419T201031Z
LOCATION:Online
PRIORITY:5
SEQUENCE:0
SUMMARY;LANGUAGE=es-es:Tecnowebinars.com - :: Curso sobre Términos Financieros Inglés/Español: Contabilidad, Mercados y Operaciones Financieras
TRANSP:OPAQUE
UID:5858d599e0402d4a13be2f69de6ffda5 Tecnowebinars.com
X-MICROSOFT-CDO-BUSYSTATUS:BUSY
X-MICROSOFT-CDO-IMPORTANCE:1
X-MICROSOFT-DISALLOW-COUNTER:FALSE
X-MS-OLK-ALLOWEXTERNCHECK:TRUE
X-MS-OLK-AUTOFILLLOCATION:FALSE
X-MS-OLK-CONFTYPE:0
BEGIN:VALARM
TRIGGER:-PT1440M
ACTION:DISPLAY
DESCRIPTION:Reminder
END:VALARM
END:VEVENT
END:VCALENDAR
